BEGIN:VCALENDAR
VERSION:2.0
PRODID:-//NaturFreunde Plauen - ECPv6.15.19//NONSGML v1.0//EN
CALSCALE:GREGORIAN
METHOD:PUBLISH
X-ORIGINAL-URL:https://www.naturfreunde-plauen.de
X-WR-CALDESC:Veranstaltungen für NaturFreunde Plauen
REFRESH-INTERVAL;VALUE=DURATION:PT1H
X-Robots-Tag:noindex
X-PUBLISHED-TTL:PT1H
BEGIN:VTIMEZONE
TZID:Europe/Berlin
BEGIN:DAYLIGHT
TZOFFSETFROM:+0100
TZOFFSETTO:+0200
TZNAME:CEST
DTSTART:20250330T010000
END:DAYLIGHT
BEGIN:STANDARD
TZOFFSETFROM:+0200
TZOFFSETTO:+0100
TZNAME:CET
DTSTART:20251026T010000
END:STANDARD
BEGIN:DAYLIGHT
TZOFFSETFROM:+0100
TZOFFSETTO:+0200
TZNAME:CEST
DTSTART:20260329T010000
END:DAYLIGHT
BEGIN:STANDARD
TZOFFSETFROM:+0200
TZOFFSETTO:+0100
TZNAME:CET
DTSTART:20261025T010000
END:STANDARD
BEGIN:DAYLIGHT
TZOFFSETFROM:+0100
TZOFFSETTO:+0200
TZNAME:CEST
DTSTART:20270328T010000
END:DAYLIGHT
BEGIN:STANDARD
TZOFFSETFROM:+0200
TZOFFSETTO:+0100
TZNAME:CET
DTSTART:20271031T010000
END:STANDARD
END:VTIMEZONE
BEGIN:VEVENT
DTSTART;VALUE=DATE:20260620
DTEND;VALUE=DATE:20260624
DTSTAMP:20260421T162603
CREATED:20250705T115635Z
LAST-MODIFIED:20250910T172448Z
UID:11333-1781913600-1782259199@www.naturfreunde-plauen.de
SUMMARY:Wandertour in der Sächsischen Schweiz 2026 - ausgebucht\, Warteliste
DESCRIPTION:Buchungsnummer 160096\nAktiv-Hotel Stock&Stein\nHalbestadt 13\n01824 Königstein\nTel. +49 35022 99480\nE-Mail info@stockundstein-sachsen.de\nWeb stockundstein-sachsen.de\nWarteliste: 0157 50887287 oder per E-Mail: petrarudorf@gmail.com\,\nMehr hier: Aufruf Mehrtagestour Sächs. Schweiz 2026
URL:https://www.naturfreunde-plauen.de/veranstaltung/wandertour-in-der-saechsischen-schweiz-2026-anmeldeschluss-31-08-2025/
CATEGORIES:Wanderung
END:VEVENT
END:VCALENDAR