BEGIN:VCALENDAR
VERSION:2.0
PRODID:-//NaturFreunde Plauen - ECPv6.15.19//NONSGML v1.0//EN
CALSCALE:GREGORIAN
METHOD:PUBLISH
X-ORIGINAL-URL:https://www.naturfreunde-plauen.de
X-WR-CALDESC:Veranstaltungen für NaturFreunde Plauen
REFRESH-INTERVAL;VALUE=DURATION:PT1H
X-Robots-Tag:noindex
X-PUBLISHED-TTL:PT1H
BEGIN:VTIMEZONE
TZID:Europe/Berlin
BEGIN:DAYLIGHT
TZOFFSETFROM:+0100
TZOFFSETTO:+0200
TZNAME:CEST
DTSTART:20250330T010000
END:DAYLIGHT
BEGIN:STANDARD
TZOFFSETFROM:+0200
TZOFFSETTO:+0100
TZNAME:CET
DTSTART:20251026T010000
END:STANDARD
BEGIN:DAYLIGHT
TZOFFSETFROM:+0100
TZOFFSETTO:+0200
TZNAME:CEST
DTSTART:20260329T010000
END:DAYLIGHT
BEGIN:STANDARD
TZOFFSETFROM:+0200
TZOFFSETTO:+0100
TZNAME:CET
DTSTART:20261025T010000
END:STANDARD
BEGIN:DAYLIGHT
TZOFFSETFROM:+0100
TZOFFSETTO:+0200
TZNAME:CEST
DTSTART:20270328T010000
END:DAYLIGHT
BEGIN:STANDARD
TZOFFSETFROM:+0200
TZOFFSETTO:+0100
TZNAME:CET
DTSTART:20271031T010000
END:STANDARD
END:VTIMEZONE
BEGIN:VEVENT
DTSTART;TZID=Europe/Berlin:20260204T080000
DTEND;TZID=Europe/Berlin:20260204T170000
DTSTAMP:20260421T162603
CREATED:20260126T135442Z
LAST-MODIFIED:20260126T135442Z
UID:12202-1770192000-1770224400@www.naturfreunde-plauen.de
SUMMARY:Seniorenwanderung Oelsnitz – Dreihöf\, Mittwoch\, 04.02.2026
DESCRIPTION:Mittwoch\, 04.02.2026\nSeniorenwanderung Oelsnitz – Dreihöf\n4+1 km|Einkehr im Gasthof „Dreihöf“\nTreff/Abfahrt: 08:00 Uhr Oberer Bahnhof Plauen\nAb: 08:34 Uhr Bst.3 (RB2)\nzurück: 14:02 Uhr von der Tanzermühle\, Ortseingang Oelsnitz\nInfo und Anmeldung: bis 28.01.2026 bei Peter Seibt\, 03741/52 73 56 oder 0157 73 63 15 96\nE-Mail: p.seibt@gmx.de
URL:https://www.naturfreunde-plauen.de/veranstaltung/seniorenwanderung-oelsnitz-dreihoef-mittwoch-04-02-2026/
LOCATION:Busbahnof Plauen\, Plauen\, Sachsen\, Germany
CATEGORIES:Wanderung
END:VEVENT
BEGIN:VEVENT
DTSTART;TZID=Europe/Berlin:20260204T080000
DTEND;TZID=Europe/Berlin:20260208T170000
DTSTAMP:20260421T162603
CREATED:20260126T133619Z
LAST-MODIFIED:20260126T134325Z
UID:12194-1770192000-1770570000@www.naturfreunde-plauen.de
SUMMARY:Vogtländische Winterwandertage vom 04.02.-08.02.2026
DESCRIPTION:Die Anmeldung und Teilnahme erfolgt entsprechend dem Vogtländischen\nWanderkalender Seite 8 durch jeden individuell.
URL:https://www.naturfreunde-plauen.de/veranstaltung/vogtlaendische-winterwandertage-vom-04-02-08-02-2026/
CATEGORIES:Wanderung
END:VEVENT
BEGIN:VEVENT
DTSTART;TZID=Europe/Berlin:20260207T130000
DTEND;TZID=Europe/Berlin:20260207T130000
DTSTAMP:20260421T162603
CREATED:20260126T132827Z
LAST-MODIFIED:20260126T133352Z
UID:12190-1770469200-1770469200@www.naturfreunde-plauen.de
SUMMARY:Einladung: Winterwanderung Rodau vom Heimatverein Rodau
DESCRIPTION:Die Strecke ist für jeden geeignet. \nAm Lagerfeuer kann jeder selbst etwas braten. Bratspieße werden bereitgestellt\, es gibt Glühwein aus dem Kupferkessel. \nFahrservice zum Lagerfeuer und zurück! Wer diesen nutzen möchte\, bitte unter 037435-5486 melden.
URL:https://www.naturfreunde-plauen.de/veranstaltung/einladung-winterwanderung-rodau-vom-heimatverein-rodau/
CATEGORIES:Wanderung
END:VEVENT
BEGIN:VEVENT
DTSTART;TZID=Europe/Berlin:20260212T170000
DTEND;TZID=Europe/Berlin:20260212T170000
DTSTAMP:20260421T162603
CREATED:20260126T131537Z
LAST-MODIFIED:20260126T131621Z
UID:12187-1770915600-1770915600@www.naturfreunde-plauen.de
SUMMARY:Filmvortrag: Plauen - mit der Kamera entdeckt
DESCRIPTION:siehe Veranstaltungskalender Plauen
URL:https://www.naturfreunde-plauen.de/veranstaltung/filmvortrag-plauen-mit-der-kamera-entdeckt/
LOCATION:Malzhaus\, Alter Teich 7-9\, Plauen\, 08527\, Germany
CATEGORIES:Kultur
END:VEVENT
BEGIN:VEVENT
DTSTART;TZID=Europe/Berlin:20260214T080000
DTEND;TZID=Europe/Berlin:20260214T170000
DTSTAMP:20260421T162603
CREATED:20260126T133318Z
LAST-MODIFIED:20260126T133318Z
UID:12192-1771056000-1771088400@www.naturfreunde-plauen.de
SUMMARY:Achtung! Bildungseinheit Wald - Feuer - Klima am 14.2.2026 findet nicht statt
DESCRIPTION:
URL:https://www.naturfreunde-plauen.de/veranstaltung/achtung-bildungseinheit-wald-feuer-klima-am-14-2-2026-findet-nicht-statt/
CATEGORIES:Sonderveranstaltungen
END:VEVENT
BEGIN:VEVENT
DTSTART;TZID=Europe/Berlin:20260215T093000
DTEND;TZID=Europe/Berlin:20260215T093000
DTSTAMP:20260421T162603
CREATED:20260126T135813Z
LAST-MODIFIED:20260126T135813Z
UID:12205-1771147800-1771147800@www.naturfreunde-plauen.de
SUMMARY:Wanderung an der Talsperre Pöhl\, Sonntag\, 15.02.2026
DESCRIPTION:7 km|2\,5 h |leicht|Rucksackverpegung\nTreff: 09:30 Uhr Parkplatz Elsterpark Plauen\nStart: 10:00 Uhr Parkplatz Gunzenberg Talsperre Pöhl\nHinweis: Wanderung mit Begleitung der Familie der Urbansky an der Talsperre Pöhl – Neudörfel – Jocketa\nInfo und Anmeldung: bis 08.02.2026 bei Karin Todt\, Tel.: 0160 98 35 79 90 E-Mail: to.ka@t-online.de
URL:https://www.naturfreunde-plauen.de/veranstaltung/wanderung-an-der-talsperre-poehl-sonntag-15-02-2026/
LOCATION:Elsterpark\, Äußere Reichenbacher Straße 64\, Plauen\, 08529\, Germany
CATEGORIES:Wanderung
END:VEVENT
BEGIN:VEVENT
DTSTART;TZID=Europe/Berlin:20260217T090000
DTEND;TZID=Europe/Berlin:20260217T170000
DTSTAMP:20260421T162603
CREATED:20260126T140044Z
LAST-MODIFIED:20260126T140044Z
UID:12208-1771318800-1771347600@www.naturfreunde-plauen.de
SUMMARY:Wanderung in und um Plauen\, Dienstag\, 17.02.2025
DESCRIPTION:15 km|4-5 h Gehzeit|mittel|Einkehr wird geprüft\nTreff: 09:00 Uhr Parkplatz Elsterpark Plauen\nZiel: TRAM Am Vogtlandstadion\nInfo und Anmeldung: bis 10.02.2026 bei Andrea Reichmann\, Tel. 0173 90 75 554 E-Mail: faltenfresser@web.de
URL:https://www.naturfreunde-plauen.de/veranstaltung/wanderung-in-und-um-plauen-dienstag-17-02-2025/
LOCATION:Elsterpark\, Äußere Reichenbacher Straße 64\, Plauen\, 08529\, Germany
CATEGORIES:Wanderung
END:VEVENT
BEGIN:VEVENT
DTSTART;TZID=Europe/Berlin:20260226T090000
DTEND;TZID=Europe/Berlin:20260226T090000
DTSTAMP:20260421T162603
CREATED:20260126T140346Z
LAST-MODIFIED:20260126T140346Z
UID:12211-1772096400-1772096400@www.naturfreunde-plauen.de
SUMMARY:Winterwanderung in und um Schleiz im Wisentatal\, Donnerstag\, den 26.02.2026
DESCRIPTION:10 km|3\,5 h Gehzeit|mittel|Einkehr Gaststätte Glücksmühle\,\nTreff/Abfahrt: 09:00 Uhr Plauen\, Parkplatz Hohe Straße\nHinweise: ab 14:30 Uhr Besichtigung der Bergkirche\nInfo und Anmeldung: bis 19.02.2026 bei Tobias Schliwa\, 0173 52 87 701 E-Mail: tobias.schliwa@web.de
URL:https://www.naturfreunde-plauen.de/veranstaltung/winterwanderung-in-und-um-schleiz-im-wisentatal-donnerstag-den-26-02-2026/
LOCATION:Parkplatz Hohe Straße\, Hohe Straße\, Plauen\, Sachsen\, 08525\, Germany
CATEGORIES:Wanderung
END:VEVENT
END:VCALENDAR