BEGIN:VCALENDAR
VERSION:2.0
PRODID:-//NaturFreunde Plauen - ECPv6.15.19//NONSGML v1.0//EN
CALSCALE:GREGORIAN
METHOD:PUBLISH
X-ORIGINAL-URL:https://www.naturfreunde-plauen.de
X-WR-CALDESC:Veranstaltungen für NaturFreunde Plauen
REFRESH-INTERVAL;VALUE=DURATION:PT1H
X-Robots-Tag:noindex
X-PUBLISHED-TTL:PT1H
BEGIN:VTIMEZONE
TZID:Europe/Berlin
BEGIN:DAYLIGHT
TZOFFSETFROM:+0100
TZOFFSETTO:+0200
TZNAME:CEST
DTSTART:20240331T010000
END:DAYLIGHT
BEGIN:STANDARD
TZOFFSETFROM:+0200
TZOFFSETTO:+0100
TZNAME:CET
DTSTART:20241027T010000
END:STANDARD
BEGIN:DAYLIGHT
TZOFFSETFROM:+0100
TZOFFSETTO:+0200
TZNAME:CEST
DTSTART:20250330T010000
END:DAYLIGHT
BEGIN:STANDARD
TZOFFSETFROM:+0200
TZOFFSETTO:+0100
TZNAME:CET
DTSTART:20251026T010000
END:STANDARD
BEGIN:DAYLIGHT
TZOFFSETFROM:+0100
TZOFFSETTO:+0200
TZNAME:CEST
DTSTART:20260329T010000
END:DAYLIGHT
BEGIN:STANDARD
TZOFFSETFROM:+0200
TZOFFSETTO:+0100
TZNAME:CET
DTSTART:20261025T010000
END:STANDARD
END:VTIMEZONE
BEGIN:VEVENT
DTSTART;TZID=Europe/Berlin:20250601T100000
DTEND;TZID=Europe/Berlin:20250601T170000
DTSTAMP:20260422T041951
CREATED:20250426T132544Z
LAST-MODIFIED:20250426T134257Z
UID:10824-1748772000-1748797200@www.naturfreunde-plauen.de
SUMMARY:Sonntag\, 01.06.2025  Geologische Exkursion im Goldbachtal
DESCRIPTION:8 km / 4 h Gehzeit / mittel / Einkehr im „Cambrinus“ vorgesehen\nTreff: 10:00 Uhr Parkplatz gegenüber „Cambrinus“\nPlauen OT Straßberg\, Hauptstr. 21\nHinweis: Unkostenbeitrag von 5 €\nInfo und Anmeldung: bis 25.05.2025 bei Bianca Hallebach\, 0151 46 52 55 97\, info@goldschmiede-hallebach.de
URL:https://www.naturfreunde-plauen.de/veranstaltung/sonntag-01-06-2025-geologische-exkursion-im-goldbachtal/
CATEGORIES:Wanderung
END:VEVENT
BEGIN:VEVENT
DTSTART;TZID=Europe/Berlin:20250602T102000
DTEND;TZID=Europe/Berlin:20250602T170000
DTSTAMP:20260422T041951
CREATED:20250426T134111Z
LAST-MODIFIED:20250521T145339Z
UID:10832-1748859600-1748883600@www.naturfreunde-plauen.de
SUMMARY:Montag\, 02.06.2025 Geologische Exkursion bei Straßberg\, Achtung Änderung!
DESCRIPTION:5 km / 2\,5 h Gehzeit / leicht / Rucksackverpflegung\nTreff: 10:20 Uhr Haltepunkt DB Straßberg (da Schienenersatzverkehr ab 10:05 vom Oberen Bahnhof) \nHinweis: Teilnahme von Wanderern des des Blinden- und Sehbehinderten Verbandes Plauen (BSBV)\,\nleichte und verständliche Wanderung zu geologischen Besonderheiten.\nInfo und Anmeldung: bis 25.05.2025 bei Bianca Hallebach\, 0151 46 52 55 97 E-Mail: info@goldschmiede-hallebach.de \n 
URL:https://www.naturfreunde-plauen.de/veranstaltung/montag-02-06-2025-geologische-exkursion-bei-strassberg/
CATEGORIES:Wanderung
END:VEVENT
BEGIN:VEVENT
DTSTART;TZID=Europe/Berlin:20250604T090000
DTEND;TZID=Europe/Berlin:20250604T170000
DTSTAMP:20260422T041951
CREATED:20250426T135227Z
LAST-MODIFIED:20250426T135227Z
UID:10839-1749027600-1749056400@www.naturfreunde-plauen.de
SUMMARY:Mittwoch\, 04.06.2025 Seniorenwanderung von Jößnitz über Röttis zur Pfaffenmühle
DESCRIPTION:7 km / 2\,5 h Gehzeit / leicht / Einkehr vorgesehen\nTreff: 09:00 Uhr Plauen\, oberer Bahnhof\nInfo und Anmeldung: bis 30.05.2025 bei Tobias Schliwa\, Tel.: 0173 52 87 701 E-Mail: tobias.schliwa@web.de
URL:https://www.naturfreunde-plauen.de/veranstaltung/mittwoch-04-06-2025-seniorenwanderung-von-joessnitz-ueber-roettis-zur-pfaffenmuehle/
LOCATION:Oberer Bahnhof Plauen\, Rathenauplatz 2\, Plauen\, Sachsen\, 08525\, Germany
CATEGORIES:Wanderung
END:VEVENT
BEGIN:VEVENT
DTSTART;TZID=Europe/Berlin:20250608T090000
DTEND;TZID=Europe/Berlin:20250608T170000
DTSTAMP:20260422T041951
CREATED:20250606T181350Z
LAST-MODIFIED:20250606T181350Z
UID:11173-1749373200-1749402000@www.naturfreunde-plauen.de
SUMMARY:14. Grenzlandwanderung anl. 700 Jahre Posseck am 08.06.2025
DESCRIPTION:– Start: 09:00 Uhr Hager – Scheune Posseck\n– Strecke: 12 km geführte Wanderung ins Dreiländereck (siehe links)\n– Hinweis: Wanderung mit Verpflegungspunkt am Dreiländereck\nZur Bildung von Fahrgemeinschaften bitte untereinander abstimmen.
URL:https://www.naturfreunde-plauen.de/veranstaltung/14-grenzlandwanderung-anl-700-jahre-posseck-am-08-06-2025/
CATEGORIES:Wanderung
END:VEVENT
BEGIN:VEVENT
DTSTART;TZID=Europe/Berlin:20250612T170000
DTEND;TZID=Europe/Berlin:20250612T200000
DTSTAMP:20260422T041951
CREATED:20250426T135645Z
LAST-MODIFIED:20250521T110147Z
UID:10843-1749747600-1749758400@www.naturfreunde-plauen.de
SUMMARY:Donnerstag\, 12.06.2025 Vereinsabend der Naturfreunde Plauen mit Vortrag
DESCRIPTION:Thema: „Ich sehe so\, wie du nicht siehst“ – Leben mit einer Sehbehinderung: Was bedeutet das?\nTreff: 17:00 Uhr Pferdestall des Pfaffengutes\, Vortrag zum Thema Sehen mit Referentin vom Blinden- und Sehbehindertenverband Sachsen e.V. \n– Für Imbiss und Getränke wird wieder gesorgt\n– bitte Preise für die Tombola mitbringen oder nach telefonischer Absprache bei Ingrid abgeben.\n– Der Verkauf der bestellten Theaterkarten durch Ottmar Müller erfolgt ebenfalls\nzum Vereinsabend\nInfo: beim Vorstand der Naturfreunde\, Tel.: 0172 36 82 237 E-Mail: naturfreunde.plauen@gmx.de \n 
URL:https://www.naturfreunde-plauen.de/veranstaltung/donnerstag-12-06-2025-vereinsabend-der-naturfreunde-plauen-mit-vortrag/
LOCATION:Pferdestall PfG\, Sachsen\, Germany
CATEGORIES:Vereinsabend
END:VEVENT
BEGIN:VEVENT
DTSTART;TZID=Europe/Berlin:20250614T180000
DTEND;TZID=Europe/Berlin:20250614T200000
DTSTAMP:20260422T041951
CREATED:20250606T182656Z
LAST-MODIFIED:20250606T183235Z
UID:11182-1749924000-1749931200@www.naturfreunde-plauen.de
SUMMARY:Ausstellung “GESTAUTE WASSER – Talsperren in der Kunst”\, Vernissage Samstag\, 14.06.25\, 18 Uhr
DESCRIPTION:Vogtland und Sachsen bieten eine außergewöhnliche Vielfalt an weitläufigen Talsperren. Als technische Bauwerke sind Talsperren wahre Meisterleistungen.\n– Die Ausstellung “GESTAUTE WASSER – Talsperren in der Kunst” beantwortet diese Frage. Ausstellungseröffnung am Samstag\, den 14. Juni 2025 um 18 Uhr in der Galerie im Malzhaus.
URL:https://www.naturfreunde-plauen.de/veranstaltung/ausstellung-gestaute-wasser-talsperren-in-der-kunst-vernissage-freitag-14-06-25-18-uhr/
LOCATION:Malzhaus\, Alter Teich 7-9\, Plauen\, 08527\, Germany
CATEGORIES:Kultur
END:VEVENT
BEGIN:VEVENT
DTSTART;TZID=Europe/Berlin:20250615T090000
DTEND;TZID=Europe/Berlin:20250615T170000
DTSTAMP:20260422T041951
CREATED:20250426T140331Z
LAST-MODIFIED:20250426T140331Z
UID:10851-1749978000-1750006800@www.naturfreunde-plauen.de
SUMMARY:Sonntag\, 15.06.2025 Wanderung Natura Trail „Großer Weidenteich“
DESCRIPTION:10 km / 3\,5 h Gehzeit / leicht / Rucksackverpflegung\nTreff: 09:00 Uhr Parkplatz Behördenzentrum (Finanzamt)\nHinweis: geführte naturkundliche Wanderung im NSG; Teilnahme am\nWasserturmfest Neundorf zum Schluss möglich\nInfo und Anmeldung: bis 08.06.2025 bei\nDoris Krause Tel.: 0151/28 72 94 11 (Bärbel Dörfelt)
URL:https://www.naturfreunde-plauen.de/veranstaltung/sonntag-15-06-2025-wanderung-natura-trail-grosser-weidenteich/
LOCATION:Parkplatz Behördenzentrum
CATEGORIES:Wanderung
END:VEVENT
BEGIN:VEVENT
DTSTART;TZID=Europe/Berlin:20250615T100000
DTEND;TZID=Europe/Berlin:20250615T140000
DTSTAMP:20260422T041951
CREATED:20250606T183307Z
LAST-MODIFIED:20250606T183307Z
UID:11186-1749981600-1749996000@www.naturfreunde-plauen.de
SUMMARY:EXKLUSIV: Workshop Akt & Brunch\, 15. Juni 2025\, 10-14 Uhr
DESCRIPTION:Workshop Akt & Brunch\, 15. Juni 2025\, 10-14 Uhr\, mit echtem Aktmodell\, gute Anleitung und Spaßfaktor garantiert! \nAnmeldung bei Steffi Müller-Klug\, galerie@malzhaus.de
URL:https://www.naturfreunde-plauen.de/veranstaltung/exklusiv-workshop-akt-brunch-15-juni-2025-10-14-uhr/
LOCATION:Malzhaus\, Alter Teich 7-9\, Plauen\, 08527\, Germany
END:VEVENT
BEGIN:VEVENT
DTSTART;TZID=Europe/Berlin:20250615T100000
DTEND;TZID=Europe/Berlin:20250615T170000
DTSTAMP:20260422T041951
CREATED:20250426T140025Z
LAST-MODIFIED:20250426T140025Z
UID:10848-1749981600-1750006800@www.naturfreunde-plauen.de
SUMMARY:Sonntag\, 15.06.2025 Tages-Rad-Tour „Triebel-Ebmath“
DESCRIPTION:Tour 52 km / Einkehr vorgesehen\nTreff: 10:00 Uhr Plauen\, Alte Elsterbrücke\nInfo und Anmeldung: bis 08.06.2025 bei Sabine Seidel\, Tel.: 0176 77 87 44 81 E-Mail: sab.seidel@t-online.de
URL:https://www.naturfreunde-plauen.de/veranstaltung/sonntag-15-06-2025-tages-rad-tour-triebel-ebmath/
LOCATION:Alte Elsterbrücke\, Plauen\, 08527\, Germany
CATEGORIES:Radfahren
END:VEVENT
BEGIN:VEVENT
DTSTART;TZID=Europe/Berlin:20250620T080000
DTEND;TZID=Europe/Berlin:20250623T170000
DTSTAMP:20260422T041951
CREATED:20250426T140525Z
LAST-MODIFIED:20250426T140525Z
UID:10856-1750406400-1750698000@www.naturfreunde-plauen.de
SUMMARY:Freitag-Montag\, 20.06.-23.06.2025 Mehrtagestour in die Sächsische Schweiz
DESCRIPTION:6-12 km / 3-6 h Gehzeit / leicht-schwer / Rucksackverpegung\nTreff und Hinweise: nach gesondertem Plan\nInfo und Anmeldungen: bereits erfolgt bei Anne Langwald und Petra Rudorf
URL:https://www.naturfreunde-plauen.de/veranstaltung/freitag-montag-20-06-23-06-2025-mehrtagestour-in-die-saechsische-schweiz/
CATEGORIES:Wanderung
END:VEVENT
BEGIN:VEVENT
DTSTART;TZID=Europe/Berlin:20250621T093000
DTEND;TZID=Europe/Berlin:20250621T170000
DTSTAMP:20260422T041951
CREATED:20250426T140736Z
LAST-MODIFIED:20250426T140736Z
UID:10858-1750498200-1750525200@www.naturfreunde-plauen.de
SUMMARY:Samstag 21.06.2025 Wanderung Gunzenberg – Triebtal
DESCRIPTION:ca. 9 km / 3\,5 h Gehzeit / mittel / Rucksack-Verpflegung\nTreff: 09:30 Uhr Parkplatz Elsterpark in Plauen\nInfo und Anmeldung: bis 14.06.2025 bei Karin Todt\, Tel.: 0160 98 35 79 90 E-Mail: to.ka@t-online.de
URL:https://www.naturfreunde-plauen.de/veranstaltung/samstag-21-06-2025-wanderung-gunzenberg-triebtal/
LOCATION:Elsterpark\, Äußere Reichenbacher Straße 64\, Plauen\, 08529\, Germany
CATEGORIES:Wanderung
END:VEVENT
BEGIN:VEVENT
DTSTART;TZID=Europe/Berlin:20250622T100000
DTEND;TZID=Europe/Berlin:20250622T170000
DTSTAMP:20260422T041951
CREATED:20250426T141004Z
LAST-MODIFIED:20250426T141004Z
UID:10861-1750586400-1750611600@www.naturfreunde-plauen.de
SUMMARY:Sonntag\, 22.06.2025 Wanderung mit dem TSV 1861 Hof zum Kemmler
DESCRIPTION:12 km/ 3\,5 h Gehzeit/ mittel/ Rucksackverpflegung\nTreff: 10:00 Uhr Plauen Parkplatz Elsterpark\nHinweis: gemeinsame jährliche Wanderung mit Wanderfreunden\nInfo und Anmeldung: bis 15.06.2025 bei Bernd Wächter\, Tel.: 0172 36 82 237 E-Mail: naturfreunde.plauen@gmx.de
URL:https://www.naturfreunde-plauen.de/veranstaltung/sonntag-22-06-2025-wanderung-mit-dem-tsv-1861-hof-zum-kemmler/
LOCATION:Elsterpark\, Äußere Reichenbacher Straße 64\, Plauen\, 08529\, Germany
CATEGORIES:Wanderung
END:VEVENT
BEGIN:VEVENT
DTSTART;TZID=Europe/Berlin:20250624T083000
DTEND;TZID=Europe/Berlin:20250624T170000
DTSTAMP:20260422T041951
CREATED:20250426T134517Z
LAST-MODIFIED:20250608T135548Z
UID:10828-1750753800-1750784400@www.naturfreunde-plauen.de
SUMMARY:Rundwanderung Selb – Egertal\, Dienstag\, 24.06.2025\, Nachholung vom 01.06.
DESCRIPTION:10 km / 3\,5 h Gehzeit / mittel / Rucksackverpflegung\nTreff: 08:30 Uhr Parkplatz Hohe Straße in Plauen\nInfo und Anmeldung: bis 15.06.2025 bei Henry Beine\, 037463/8 34 64\nE-Mail: henry.beine@vogtland-web.de
URL:https://www.naturfreunde-plauen.de/veranstaltung/sonntag-01-06-2025-rundwanderung-selb-egertal/
LOCATION:Parkplatz Hohe Straße\, Hohe Straße\, Plauen\, Sachsen\, 08525\, Germany
CATEGORIES:Wanderung
END:VEVENT
BEGIN:VEVENT
DTSTART;TZID=Europe/Berlin:20250624T100000
DTEND;TZID=Europe/Berlin:20250624T140000
DTSTAMP:20260422T041951
CREATED:20250608T155329Z
LAST-MODIFIED:20250608T155329Z
UID:11230-1750759200-1750773600@www.naturfreunde-plauen.de
SUMMARY:Wanderung an der Talsperre Pöhl (nicht nur für Kunstinteressierte)\, 24.06.2025
DESCRIPTION:Start 10 Uhr Parkplatz am Gunzenberg\nVerantwortlich: Naturfreunde Plauen – Bernd Wächter\nStreckenlänge ca. 10 km (mittel); Gehzeit: ca. 3\,5 h\nKeine Anmeldung erforderlich
URL:https://www.naturfreunde-plauen.de/veranstaltung/wanderung-an-der-talsperre-poehl-nicht-nur-fuer-kunstinteressierte-24-06-2025/
LOCATION:Parkplatz am Gunzenberg\, Hauptstraße\, Pöhl\, 08543\, Germany
END:VEVENT
END:VCALENDAR