BEGIN:VCALENDAR
VERSION:2.0
PRODID:-//NaturFreunde Plauen - ECPv6.15.19//NONSGML v1.0//EN
CALSCALE:GREGORIAN
METHOD:PUBLISH
X-WR-CALNAME:NaturFreunde Plauen
X-ORIGINAL-URL:https://www.naturfreunde-plauen.de
X-WR-CALDESC:Veranstaltungen für NaturFreunde Plauen
REFRESH-INTERVAL;VALUE=DURATION:PT1H
X-Robots-Tag:noindex
X-PUBLISHED-TTL:PT1H
BEGIN:VTIMEZONE
TZID:Europe/Berlin
BEGIN:DAYLIGHT
TZOFFSETFROM:+0100
TZOFFSETTO:+0200
TZNAME:CEST
DTSTART:20240331T010000
END:DAYLIGHT
BEGIN:STANDARD
TZOFFSETFROM:+0200
TZOFFSETTO:+0100
TZNAME:CET
DTSTART:20241027T010000
END:STANDARD
BEGIN:DAYLIGHT
TZOFFSETFROM:+0100
TZOFFSETTO:+0200
TZNAME:CEST
DTSTART:20250330T010000
END:DAYLIGHT
BEGIN:STANDARD
TZOFFSETFROM:+0200
TZOFFSETTO:+0100
TZNAME:CET
DTSTART:20251026T010000
END:STANDARD
BEGIN:DAYLIGHT
TZOFFSETFROM:+0100
TZOFFSETTO:+0200
TZNAME:CEST
DTSTART:20260329T010000
END:DAYLIGHT
BEGIN:STANDARD
TZOFFSETFROM:+0200
TZOFFSETTO:+0100
TZNAME:CET
DTSTART:20261025T010000
END:STANDARD
END:VTIMEZONE
BEGIN:VEVENT
DTSTART;TZID=Europe/Berlin:20250505T080000
DTEND;TZID=Europe/Berlin:20250509T170000
DTSTAMP:20260422T054818
CREATED:20250425T131356Z
LAST-MODIFIED:20250426T134819Z
UID:10788-1746432000-1746810000@www.naturfreunde-plauen.de
SUMMARY:Montag bis Freitag\, 05.05.-09.05.2025: Mehrtagestour nach Sayda (ERZ)
DESCRIPTION:6-14 km\, 3-5 h Gehzeit\, leicht-mittel\, Rucksackverpflegung \nHinweis: Unterbringung im Waldhotel „Kreuztanne“ \nInfo und Anmeldung bereits erfolgt\, Warteliste vorhanden\, Bernd Wächter
URL:https://www.naturfreunde-plauen.de/veranstaltung/mehrtagestour-nach-sayda-erz/
LOCATION:Elsterpark\, Äußere Reichenbacher Straße 64\, Plauen\, 08529\, Germany
CATEGORIES:Wanderung
END:VEVENT
BEGIN:VEVENT
DTSTART;TZID=Europe/Berlin:20250507T084000
DTEND;TZID=Europe/Berlin:20250507T170000
DTSTAMP:20260422T054818
CREATED:20250425T132006Z
LAST-MODIFIED:20250426T134756Z
UID:10793-1746607200-1746637200@www.naturfreunde-plauen.de
SUMMARY:Mittwoch\, 07.05.2025: Seniorenwanderung Helmsgrün - Talsperrenblick
DESCRIPTION:5 km\, Einkehr im Talsperrenblick \nTreff: 08:40 Uhr Busbhf. Plauen Bst. C (74)\, ab 09:09 uhr\, zurück: 14:49 Uhr \nAnmeldung: bis 29.4.2025 bei Peter Seibt\, 03741-527356\, 015773631596\, p.seibt@gmx.de
URL:https://www.naturfreunde-plauen.de/veranstaltung/seniorenwanderung-helmsgruen-talsperrenblick/
CATEGORIES:Wanderung
END:VEVENT
BEGIN:VEVENT
DTSTART;TZID=Europe/Berlin:20250510T090000
DTEND;TZID=Europe/Berlin:20250510T170000
DTSTAMP:20260422T054818
CREATED:20250426T131819Z
LAST-MODIFIED:20250426T134727Z
UID:10800-1746867600-1746896400@www.naturfreunde-plauen.de
SUMMARY:Samstag\, 10.05.2025: 80. Jahrestag der Befreiung - Auf den Spuren der Geschichte zwischen PLAMAG und Syrau
DESCRIPTION:9 km\, 3 h Gehzeit\, leicht – mittel\, Rucksackverpflegung \nHinweis: Führung und Erklärungen durch den Historiker Gerd Naumann \nInfo\, Anm.: bis 30.04.2025 bei Bernd Wächter\, 03741-440435\, 0172-3682237\, naturfreunde.plauen@gmx.de \nTreff: 09.00 Uhr Tramendhaltestelle PLAMAG
URL:https://www.naturfreunde-plauen.de/veranstaltung/samstag-10-05-2025-80-jahrestag-der-befreiung-auf-den-spuren-der-geschichte-zwischen-plamag-und-syrau/
LOCATION:Endhaltestelle PLAMAG\, Germany
CATEGORIES:Wanderung
END:VEVENT
BEGIN:VEVENT
DTSTART;TZID=Europe/Berlin:20250513T083000
DTEND;TZID=Europe/Berlin:20250513T170000
DTSTAMP:20260422T054818
CREATED:20250425T135736Z
LAST-MODIFIED:20250425T135736Z
UID:10806-1747125000-1747155600@www.naturfreunde-plauen.de
SUMMARY:Di\, 13.05.2025: Frühlingswanderung rund um Obercrinitz im Kirchberger Granit
DESCRIPTION:11 km\, 3\,5 h Gehzeit\, mittel\, Rucksackverpflegung \nTreff: 8:30 Uhr Plauen parkplatz Elsterpark \nInfo\, Anm.: bis 08.05.2025 bei Tobias Schliwa\, 0173-5287701\, tobias.schliwa@web.de
URL:https://www.naturfreunde-plauen.de/veranstaltung/di-13-05-2025-fruehlingswanderung-rund-um-obercrinitz-im-kirchberger-granit/
LOCATION:Elsterpark\, Äußere Reichenbacher Straße 64\, Plauen\, 08529\, Germany
CATEGORIES:Wanderung
END:VEVENT
BEGIN:VEVENT
DTSTART;VALUE=DATE:20250515
DTEND;VALUE=DATE:20250516
DTSTAMP:20260422T054818
CREATED:20250510T085206Z
LAST-MODIFIED:20250510T085218Z
UID:10962-1747267200-1747353599@www.naturfreunde-plauen.de
SUMMARY:Donnerstag\, 15.05.2025 Rundwanderung in Hof zum Wartturm - Nachholtermin
DESCRIPTION:6 km/ 2\,5 h Gehzeit/ leicht/ Einkehr vorgesehen\nTreff: 08:15 Uhr Plauen Parkplatz Elsterpark – Fahrt mit PKW\nHinweis: Führung der Wanderung erfolgt durch NF Günther Gröger\,\nab Naturfreundehaus Ascher Str. 16 Hof\nInfo und Anmeldung: Erneute Anmeldung erforderlich!! bis 10.05.2025 bei\nBernd Wächter
URL:https://www.naturfreunde-plauen.de/veranstaltung/donnerstag-15-05-2025-rundwanderung-in-hof-zum-wartturm-nachholtermin/
LOCATION:Elsterpark\, Äußere Reichenbacher Straße 64\, Plauen\, 08529\, Germany
END:VEVENT
BEGIN:VEVENT
DTSTART;VALUE=DATE:20250518
DTEND;VALUE=DATE:20250519
DTSTAMP:20260422T054818
CREATED:20250510T090012Z
LAST-MODIFIED:20250510T090229Z
UID:10965-1747526400-1747612799@www.naturfreunde-plauen.de
SUMMARY:Sonntag\, 18.05.2025 Rundwanderung Talsperre Pöhl – Mosenturm - Triebtal – Jocketa – Pfaffenmühle – Pfaffengut – Lochbauer
DESCRIPTION:14 km – 280 HM/ 4 h Gehzeit/mittel/kleiner Imbiss vorgesehen\nTreff: 10:00 Uhr Parkplatz Campingplatz Gunzenberg\nHinweis: 23 Teilnehmer Naturfreunde Würzburg\nMax. noch 10 Teilnehmer Naturfreunde Plauen\nImbiss: Es ist vorgesehen im Pfaffengut einen kleinen Imbiss (Bockwurst/Wiener Würstchen und Brötchen) und Getränke\nanzubieten.\nVerantwortlich: Karin Wächter + 2 Unterstützer (bitte sich dazu bei Karin melden)\nInfo und Anmeldung: bis 10.05.25 bei Bernd Wächter\, Tel.: 0172 36 82 237 E-Mail: naturfreunde.plauen@gmx.de
URL:https://www.naturfreunde-plauen.de/veranstaltung/sonntag-18-05-2025-rundwanderung-talsperre-poehl-mosenturm-triebtal-jocketa-pfaffenmuehle-pfaffengut-lochbauer/
LOCATION:Parkplatz Campingplatz Gunzenberg\, Hauptstraße 38\, 08543 Pöhl\, Germany
END:VEVENT
BEGIN:VEVENT
DTSTART;TZID=Europe/Berlin:20250518T090000
DTEND;TZID=Europe/Berlin:20250518T170000
DTSTAMP:20260422T054818
CREATED:20250425T140032Z
LAST-MODIFIED:20250426T134631Z
UID:10810-1747558800-1747587600@www.naturfreunde-plauen.de
SUMMARY:Sonntag\, 18.05.2025 Rundwanderung Plothener Teiche
DESCRIPTION:9 km / 3\,5 h Gehzeit / mittel / Rucksackverpflegung\nTreff: 09:00 Uhr Parkplatz\nHohe Straße in Plauen\nInfo und Anmeldung:\nbis 12.05.2025 bei Henry Beine\, Tel.: 037463/8 34 64\nE-Mail: henry.beine@vogtland-web.de
URL:https://www.naturfreunde-plauen.de/veranstaltung/sonntag-18-05-2025-rundwanderung-plothener-teiche/
LOCATION:Parkplatz Hohe Straße\, Hohe Straße\, Plauen\, Sachsen\, 08525\, Germany
CATEGORIES:Wanderung
END:VEVENT
BEGIN:VEVENT
DTSTART;TZID=Europe/Berlin:20250525T080000
DTEND;TZID=Europe/Berlin:20250525T170000
DTSTAMP:20260422T054818
CREATED:20250426T131708Z
LAST-MODIFIED:20250426T131708Z
UID:10815-1748160000-1748192400@www.naturfreunde-plauen.de
SUMMARY:Sonntag\, 25.05.2025 Tages-Rad-Tour „Nach Amerika“ (CZ)
DESCRIPTION:Tour 46 km / mit Einkehr\nTreff: 09:00 Uhr Plauen\, Gerberplatz\nHinweis: mit Pkw und Rädern\nInfo und Anmeldung: bis 18.05.2025 bei Sabine Seidel\, Tel.: 0176 77 87 44 81 E-Mail: sab.seidel@t-online.de
URL:https://www.naturfreunde-plauen.de/veranstaltung/sonntag-25-05-2025-tages-rad-tour-nach-amerika-cz/
LOCATION:Gerberplatz\, Gerberplatz 2\, Plauen\, 08527\, Germany
CATEGORIES:Radfahren
END:VEVENT
BEGIN:VEVENT
DTSTART;TZID=Europe/Berlin:20250525T130000
DTEND;TZID=Europe/Berlin:20250525T130000
DTSTAMP:20260422T054818
CREATED:20250521T150145Z
LAST-MODIFIED:20250521T155913Z
UID:11104-1748178000-1748178000@www.naturfreunde-plauen.de
SUMMARY:10. Waldkonzert am Sonntag\, 25.05.2025
DESCRIPTION:Der Männerchor „Liederkranz“ 1838 Rodau wird beim Konzert wieder vom Kirchenchor Rodau und den Plohnbachtaler Jagdhornbläsern unterstützt. Als Gast erwarten wir den Männerchor Langenbuch 1883 e.V.. Es wird auch für Essen und Trinken gesorgt. \nTreff: 13.00 Uhr am ehemaligen Bürgerhaus „Zur Linde“\, um gemeinsam zur Waldbühne zu wandern. Eine Zufahrt mit PKW dorthin ist nicht möglich.
URL:https://www.naturfreunde-plauen.de/veranstaltung/10-waldkonzert-am-sonntag-20-05-2025/
CATEGORIES:Konzert/Theater
END:VEVENT
END:VCALENDAR