BEGIN:VCALENDAR
VERSION:2.0
PRODID:-//NaturFreunde Plauen - ECPv6.15.19//NONSGML v1.0//EN
CALSCALE:GREGORIAN
METHOD:PUBLISH
X-WR-CALNAME:NaturFreunde Plauen
X-ORIGINAL-URL:https://www.naturfreunde-plauen.de
X-WR-CALDESC:Veranstaltungen für NaturFreunde Plauen
REFRESH-INTERVAL;VALUE=DURATION:PT1H
X-Robots-Tag:noindex
X-PUBLISHED-TTL:PT1H
BEGIN:VTIMEZONE
TZID:Europe/Berlin
BEGIN:DAYLIGHT
TZOFFSETFROM:+0100
TZOFFSETTO:+0200
TZNAME:CEST
DTSTART:20240331T010000
END:DAYLIGHT
BEGIN:STANDARD
TZOFFSETFROM:+0200
TZOFFSETTO:+0100
TZNAME:CET
DTSTART:20241027T010000
END:STANDARD
BEGIN:DAYLIGHT
TZOFFSETFROM:+0100
TZOFFSETTO:+0200
TZNAME:CEST
DTSTART:20250330T010000
END:DAYLIGHT
BEGIN:STANDARD
TZOFFSETFROM:+0200
TZOFFSETTO:+0100
TZNAME:CET
DTSTART:20251026T010000
END:STANDARD
BEGIN:DAYLIGHT
TZOFFSETFROM:+0100
TZOFFSETTO:+0200
TZNAME:CEST
DTSTART:20260329T010000
END:DAYLIGHT
BEGIN:STANDARD
TZOFFSETFROM:+0200
TZOFFSETTO:+0100
TZNAME:CET
DTSTART:20261025T010000
END:STANDARD
BEGIN:DAYLIGHT
TZOFFSETFROM:+0100
TZOFFSETTO:+0200
TZNAME:CEST
DTSTART:20270328T010000
END:DAYLIGHT
BEGIN:STANDARD
TZOFFSETFROM:+0200
TZOFFSETTO:+0100
TZNAME:CET
DTSTART:20271031T010000
END:STANDARD
END:VTIMEZONE
BEGIN:VEVENT
DTSTART;TZID=Europe/Berlin:20260419T133000
DTEND;TZID=Europe/Berlin:20260419T170000
DTSTAMP:20260421T133059
CREATED:20260314T142324Z
LAST-MODIFIED:20260314T142324Z
UID:12402-1776605400-1776618000@www.naturfreunde-plauen.de
SUMMARY:Frühlingskonzert\, 19.4.2026
DESCRIPTION:Highlights aus Oper\, Operette\, Musical und Filmmusik\, 13.30 und 17.00 Uhr\, Tickets: FLVG 03741-133147\, Kirchweg 9\, 08527 Straßberg
URL:https://www.naturfreunde-plauen.de/veranstaltung/fruehlingskonzert-19-4-2026/
LOCATION:Straßberg\, Turnhalle\, 08527 Straßberg
END:VEVENT
BEGIN:VEVENT
DTSTART;TZID=Europe/Berlin:20260316T080000
DTEND;TZID=Europe/Berlin:20260319T170000
DTSTAMP:20260421T133059
CREATED:20251104T113235Z
LAST-MODIFIED:20251104T113235Z
UID:11938-1773648000-1773939600@www.naturfreunde-plauen.de
SUMMARY:„Wanderfahrt für Leseratten“ Montag 16.3. - Donnerstag 19.3.2026
DESCRIPTION:Teilnehmerzahl: Max. 20 Personen \nErlebnis-Hotel „Zur Schiffsmühle“ in Grimma/Höfgen\nPreise Übernachtung inkl. Frühstück (6 EUR/Person):\n– Einzelzimmer: 100 EUR pro Nacht\n– Doppelzimmer: 160 EUR pro Nacht\nNutzung Parkplatz und Saunalandschaft inklusive. \nAnfahrt:\nMit PKW in Fahrgemeinschaften. \nBisher vorgesehenes Rahmenprogramm:\n– Montag 16.3.26 – Gegen Mittag:\nFahrt von Plauen nach Grimma. Dort Stadtrundgang mit NF Siggi Wenzel.\nKaffeetrinken und anschließend Fahrt zur Unterkunft (ca. 10 Minuten).\nAbendessen im Gasthaus „Zur Wassermühle“ Höfgen.\n– Dienstag 17.3.26:\nWanderung ca. 10 km/Besichtigung/Einkehr noch zu planen.\nBei Interesse Nutzung Bowling-Anlage (25 EUR pro Bahn/Stunde inkl. Schuhe)\nAbendessen à la carte im Hotel-Restaurant.\n– Mittwoch 18.3.26:\nWanderung „Zu beiden Seiten der Mulde“ (ca. 12 km).\nBesichtigung/Einkehr noch zu planen.\nAbendessen à la carte im Hotel-Restaurant.\n– Donnerstag 19.3.26:\nFahrt nach Leipzig und Besuch der Buchmesse bzw. „Leipzig liest“. \nAlternative zu Auto:\nRegio-Bahn ab Grimma bis Leipzig Hbf. – ca. 30 Minuten/10 EUR.\nStraßenbahn zur Messe mit Eintrittskarte kostenlos.\nTickets für Buchmesse ab Dezember 2025 erhältlich. (Preise 2025: 25 Euro/21 Euro ermäßigt.\nVollständiges Programm ab 19.2.26 auf Website der Buchmesse).\nVerpflegung individuell (Imbissstände). Rückfahrt nach Plauen gegen Abend. \nOrganisation/Wanderleitung: Karin Todt\nBestätigung schon erfolgter Voranmeldungen (aktuell 11) und Neuanmeldungen\nbitte bis spätestens Freitag 28.11.2025 unter 0160/98357990 oder\nto.ka@t-online.de.
URL:https://www.naturfreunde-plauen.de/veranstaltung/wanderfahrt-fuer-leseratten-montag-16-3-donnerstag-19-3-2026/
CATEGORIES:Kultur,Wanderung
END:VEVENT
BEGIN:VEVENT
DTSTART;TZID=Europe/Berlin:20260226T090000
DTEND;TZID=Europe/Berlin:20260226T090000
DTSTAMP:20260421T133059
CREATED:20260126T140346Z
LAST-MODIFIED:20260126T140346Z
UID:12211-1772096400-1772096400@www.naturfreunde-plauen.de
SUMMARY:Winterwanderung in und um Schleiz im Wisentatal\, Donnerstag\, den 26.02.2026
DESCRIPTION:10 km|3\,5 h Gehzeit|mittel|Einkehr Gaststätte Glücksmühle\,\nTreff/Abfahrt: 09:00 Uhr Plauen\, Parkplatz Hohe Straße\nHinweise: ab 14:30 Uhr Besichtigung der Bergkirche\nInfo und Anmeldung: bis 19.02.2026 bei Tobias Schliwa\, 0173 52 87 701 E-Mail: tobias.schliwa@web.de
URL:https://www.naturfreunde-plauen.de/veranstaltung/winterwanderung-in-und-um-schleiz-im-wisentatal-donnerstag-den-26-02-2026/
LOCATION:Parkplatz Hohe Straße\, Hohe Straße\, Plauen\, Sachsen\, 08525\, Germany
CATEGORIES:Wanderung
END:VEVENT
BEGIN:VEVENT
DTSTART;TZID=Europe/Berlin:20260217T090000
DTEND;TZID=Europe/Berlin:20260217T170000
DTSTAMP:20260421T133059
CREATED:20260126T140044Z
LAST-MODIFIED:20260126T140044Z
UID:12208-1771318800-1771347600@www.naturfreunde-plauen.de
SUMMARY:Wanderung in und um Plauen\, Dienstag\, 17.02.2025
DESCRIPTION:15 km|4-5 h Gehzeit|mittel|Einkehr wird geprüft\nTreff: 09:00 Uhr Parkplatz Elsterpark Plauen\nZiel: TRAM Am Vogtlandstadion\nInfo und Anmeldung: bis 10.02.2026 bei Andrea Reichmann\, Tel. 0173 90 75 554 E-Mail: faltenfresser@web.de
URL:https://www.naturfreunde-plauen.de/veranstaltung/wanderung-in-und-um-plauen-dienstag-17-02-2025/
LOCATION:Elsterpark\, Äußere Reichenbacher Straße 64\, Plauen\, 08529\, Germany
CATEGORIES:Wanderung
END:VEVENT
BEGIN:VEVENT
DTSTART;TZID=Europe/Berlin:20260215T093000
DTEND;TZID=Europe/Berlin:20260215T093000
DTSTAMP:20260421T133059
CREATED:20260126T135813Z
LAST-MODIFIED:20260126T135813Z
UID:12205-1771147800-1771147800@www.naturfreunde-plauen.de
SUMMARY:Wanderung an der Talsperre Pöhl\, Sonntag\, 15.02.2026
DESCRIPTION:7 km|2\,5 h |leicht|Rucksackverpegung\nTreff: 09:30 Uhr Parkplatz Elsterpark Plauen\nStart: 10:00 Uhr Parkplatz Gunzenberg Talsperre Pöhl\nHinweis: Wanderung mit Begleitung der Familie der Urbansky an der Talsperre Pöhl – Neudörfel – Jocketa\nInfo und Anmeldung: bis 08.02.2026 bei Karin Todt\, Tel.: 0160 98 35 79 90 E-Mail: to.ka@t-online.de
URL:https://www.naturfreunde-plauen.de/veranstaltung/wanderung-an-der-talsperre-poehl-sonntag-15-02-2026/
LOCATION:Elsterpark\, Äußere Reichenbacher Straße 64\, Plauen\, 08529\, Germany
CATEGORIES:Wanderung
END:VEVENT
BEGIN:VEVENT
DTSTART;TZID=Europe/Berlin:20260214T080000
DTEND;TZID=Europe/Berlin:20260214T170000
DTSTAMP:20260421T133059
CREATED:20260126T133318Z
LAST-MODIFIED:20260126T133318Z
UID:12192-1771056000-1771088400@www.naturfreunde-plauen.de
SUMMARY:Achtung! Bildungseinheit Wald - Feuer - Klima am 14.2.2026 findet nicht statt
DESCRIPTION:
URL:https://www.naturfreunde-plauen.de/veranstaltung/achtung-bildungseinheit-wald-feuer-klima-am-14-2-2026-findet-nicht-statt/
CATEGORIES:Sonderveranstaltungen
END:VEVENT
BEGIN:VEVENT
DTSTART;TZID=Europe/Berlin:20260212T170000
DTEND;TZID=Europe/Berlin:20260212T170000
DTSTAMP:20260421T133059
CREATED:20260126T131537Z
LAST-MODIFIED:20260126T131621Z
UID:12187-1770915600-1770915600@www.naturfreunde-plauen.de
SUMMARY:Filmvortrag: Plauen - mit der Kamera entdeckt
DESCRIPTION:siehe Veranstaltungskalender Plauen
URL:https://www.naturfreunde-plauen.de/veranstaltung/filmvortrag-plauen-mit-der-kamera-entdeckt/
LOCATION:Malzhaus\, Alter Teich 7-9\, Plauen\, 08527\, Germany
CATEGORIES:Kultur
END:VEVENT
BEGIN:VEVENT
DTSTART;TZID=Europe/Berlin:20260207T130000
DTEND;TZID=Europe/Berlin:20260207T130000
DTSTAMP:20260421T133059
CREATED:20260126T132827Z
LAST-MODIFIED:20260126T133352Z
UID:12190-1770469200-1770469200@www.naturfreunde-plauen.de
SUMMARY:Einladung: Winterwanderung Rodau vom Heimatverein Rodau
DESCRIPTION:Die Strecke ist für jeden geeignet. \nAm Lagerfeuer kann jeder selbst etwas braten. Bratspieße werden bereitgestellt\, es gibt Glühwein aus dem Kupferkessel. \nFahrservice zum Lagerfeuer und zurück! Wer diesen nutzen möchte\, bitte unter 037435-5486 melden.
URL:https://www.naturfreunde-plauen.de/veranstaltung/einladung-winterwanderung-rodau-vom-heimatverein-rodau/
CATEGORIES:Wanderung
END:VEVENT
BEGIN:VEVENT
DTSTART;TZID=Europe/Berlin:20260204T080000
DTEND;TZID=Europe/Berlin:20260208T170000
DTSTAMP:20260421T133059
CREATED:20260126T133619Z
LAST-MODIFIED:20260126T134325Z
UID:12194-1770192000-1770570000@www.naturfreunde-plauen.de
SUMMARY:Vogtländische Winterwandertage vom 04.02.-08.02.2026
DESCRIPTION:Die Anmeldung und Teilnahme erfolgt entsprechend dem Vogtländischen\nWanderkalender Seite 8 durch jeden individuell.
URL:https://www.naturfreunde-plauen.de/veranstaltung/vogtlaendische-winterwandertage-vom-04-02-08-02-2026/
CATEGORIES:Wanderung
END:VEVENT
BEGIN:VEVENT
DTSTART;TZID=Europe/Berlin:20260204T080000
DTEND;TZID=Europe/Berlin:20260204T170000
DTSTAMP:20260421T133059
CREATED:20260126T135442Z
LAST-MODIFIED:20260126T135442Z
UID:12202-1770192000-1770224400@www.naturfreunde-plauen.de
SUMMARY:Seniorenwanderung Oelsnitz – Dreihöf\, Mittwoch\, 04.02.2026
DESCRIPTION:Mittwoch\, 04.02.2026\nSeniorenwanderung Oelsnitz – Dreihöf\n4+1 km|Einkehr im Gasthof „Dreihöf“\nTreff/Abfahrt: 08:00 Uhr Oberer Bahnhof Plauen\nAb: 08:34 Uhr Bst.3 (RB2)\nzurück: 14:02 Uhr von der Tanzermühle\, Ortseingang Oelsnitz\nInfo und Anmeldung: bis 28.01.2026 bei Peter Seibt\, 03741/52 73 56 oder 0157 73 63 15 96\nE-Mail: p.seibt@gmx.de
URL:https://www.naturfreunde-plauen.de/veranstaltung/seniorenwanderung-oelsnitz-dreihoef-mittwoch-04-02-2026/
LOCATION:Busbahnof Plauen\, Plauen\, Sachsen\, Germany
CATEGORIES:Wanderung
END:VEVENT
BEGIN:VEVENT
DTSTART;TZID=Europe/Berlin:20260131T090000
DTEND;TZID=Europe/Berlin:20260131T170000
DTSTAMP:20260421T133059
CREATED:20260126T135137Z
LAST-MODIFIED:20260126T135137Z
UID:12199-1769850000-1769878800@www.naturfreunde-plauen.de
SUMMARY:Rundwanderung Eibenstock\, Samstag\, 31.01.2026
DESCRIPTION:11 km|3 h Gehzeit|mittel|Rucksackverpegung\nTreff: 09:00 Uhr Parkplatz Hohe Straße Plauen\nStart: 10:00 Uhr Parkplatz Bikertreff oberhalb Vorsperre\nInfo und Anmeldung: bis 24.01.2026 bei Andrea Reichmann\, Tel. 0173 90 75 554\, faltenfresser@web.de
URL:https://www.naturfreunde-plauen.de/veranstaltung/rundwanderung-eibenstock-samstag-31-01-2026/
LOCATION:Parkplatz Hohe Straße\, Hohe Straße\, Plauen\, Sachsen\, 08525\, Germany
CATEGORIES:Wanderung
END:VEVENT
BEGIN:VEVENT
DTSTART;TZID=Europe/Berlin:20260124T093000
DTEND;TZID=Europe/Berlin:20260124T093000
DTSTAMP:20260421T133059
CREATED:20260126T134742Z
LAST-MODIFIED:20260126T134742Z
UID:12196-1769247000-1769247000@www.naturfreunde-plauen.de
SUMMARY:Wanderung vom UWZ Oberlauterbach über den Fronberg zum Green HealthService- Café am 24.1.2027
DESCRIPTION:Tour 10 km|3\,5 h Gehzeit|mittel|Imbiss im Café vorgesehen\nTreff/Abfahrt: 09:30 Uhr Plauen Parkplatz Elsterpark\nHinweise: Begrenzung auf 25 Personen\, am Ende der Wanderung\nBesuch der Ausstellung lebendiger Boden im UWZ\nInfo und Anmeldung: bis 17.01.2026 bei Tobias Schliwa\, Tel.: 0173 52 87 701\, tobias.schliwa@web.de \n 
URL:https://www.naturfreunde-plauen.de/veranstaltung/wanderung-vom-uwz-oberlauterbach-ueber-den-fronberg-zum-green-healthservice-cafe-am-24-1-2027/
LOCATION:Elsterpark\, Äußere Reichenbacher Straße 64\, Plauen\, 08529\, Germany
CATEGORIES:Wanderung
END:VEVENT
BEGIN:VEVENT
DTSTART;TZID=Europe/Berlin:20260110T193000
DTEND;TZID=Europe/Berlin:20260110T220000
DTSTAMP:20260421T133059
CREATED:20250910T170257Z
LAST-MODIFIED:20250910T170257Z
UID:11620-1768073400-1768082400@www.naturfreunde-plauen.de
SUMMARY:„La Boheme“\, Oper\, Puccini\, Premiere\, Sa\, 10. 01. 26
DESCRIPTION:„La Boheme“\, Oper\, Puccini\, Premiere \nMeldungen zur Teilnahme bis möglichst spätestens 2 Wochen vor Termin der Vorstellung an Ottmar Müller\, Tel.: 03741/70 94 15 oder 0170 62 19 333\, E-Mail: familie.mueller.plauen@t-online.de – bzw. zum Vereinsabend 25. 09. 25 ( Auslage Teilnehmerlisten)
URL:https://www.naturfreunde-plauen.de/veranstaltung/la-boheme-oper-puccini-premiere-sa-10-01-26/
CATEGORIES:Konzert/Theater
END:VEVENT
BEGIN:VEVENT
DTSTART;TZID=Europe/Berlin:20251214T180000
DTEND;TZID=Europe/Berlin:20251214T200000
DTSTAMP:20260421T133059
CREATED:20250910T170013Z
LAST-MODIFIED:20250910T170013Z
UID:11618-1765735200-1765742400@www.naturfreunde-plauen.de
SUMMARY:„Der Nußknacker“ \,Tschaikowsky\, Ballett\, So\, 14. 12. 25
DESCRIPTION:„Der Nußknacker“ \,Tschaikowsky\, Ballett \nMeldungen zur Teilnahme bis möglichst spätestens 2 Wochen vor Termin der Vorstellung an Ottmar Müller\, Tel.: 03741/70 94 15 oder 0170 62 19 333\, E-Mail: familie.mueller.plauen@t-online.de – bzw. zum Vereinsabend 25. 09. 25 ( Auslage Teilnehmerlisten)
URL:https://www.naturfreunde-plauen.de/veranstaltung/der-nussknacker-tschaikowsky-ballett-so-14-12-25/
CATEGORIES:Konzert/Theater
END:VEVENT
BEGIN:VEVENT
DTSTART;TZID=Europe/Berlin:20251203T100000
DTEND;TZID=Europe/Berlin:20251203T170000
DTSTAMP:20260421T133059
CREATED:20250910T163014Z
LAST-MODIFIED:20250910T163014Z
UID:11598-1764756000-1764781200@www.naturfreunde-plauen.de
SUMMARY:Seniorenwanderung Plamag – Plauen\, 03.12.2025\, Achtung Änderung!
DESCRIPTION:6 km\,  Treff: 10:00 Uhr Straßenbahn – Endhaltestelle PLAMAG\, Einkehr: Waldhaus Reißig
URL:https://www.naturfreunde-plauen.de/veranstaltung/seniorenwanderung-plamag-plauen-03-12-2025-achtung-aenderung/
CATEGORIES:Wanderung
END:VEVENT
BEGIN:VEVENT
DTSTART;TZID=Europe/Berlin:20251121T193000
DTEND;TZID=Europe/Berlin:20251121T220000
DTSTAMP:20260421T133059
CREATED:20250910T165804Z
LAST-MODIFIED:20250910T165804Z
UID:11616-1763753400-1763762400@www.naturfreunde-plauen.de
SUMMARY:„Monty Python´s Spamalot“\, Musical\, Premiere\, Fr\, 21. 11. 25
DESCRIPTION:„Monty Python´s Spamalot“\, Musical\, Premiere \nMeldungen zur Teilnahme bis möglichst spätestens 2 Wochen vor Termin der Vorstellung an Ottmar Müller\, Tel.: 03741/70 94 15 oder 0170 62 19 333\, E-Mail: familie.mueller.plauen@t-online.de – bzw. zum Vereinsabend 25. 09. 25 ( Auslage Teilnehmerlisten)
URL:https://www.naturfreunde-plauen.de/veranstaltung/monty-pythons-spamalot-musical-premiere-fr-21-11-25/
CATEGORIES:Konzert/Theater
END:VEVENT
BEGIN:VEVENT
DTSTART;TZID=Europe/Berlin:20251120T090000
DTEND;TZID=Europe/Berlin:20251120T170000
DTSTAMP:20260421T133059
CREATED:20251027T123749Z
LAST-MODIFIED:20251117T122042Z
UID:11907-1763629200-1763658000@www.naturfreunde-plauen.de
SUMMARY:Rundwanderung Görschnitz am 20.11.25 - Achtung Änderung!
DESCRIPTION:Durch die vorhandenen Bauarbeiten an der Bahnstrecke erfolgt die Fahrt zum Startpunkt der\nWanderung mit PKW\no Treff/Abfahrt: 09:00 Uhr Parkplatz Hohe Straße Plauen\no Start: 09:30 Uhr Parkplatz in der Nähe des Kunstseidenwerk Elsterberg\, in der Nähe Abzweig Gippe\, (gegenüber\nGaststätte Linde)\no Es wird nur eine Strecke von 10 km geben\no Einkehr ist in die Gaststätte „Gippe“ zum Mittagessen fast am Ende der Wanderung\nvorgesehen
URL:https://www.naturfreunde-plauen.de/veranstaltung/rundwanderung-goerschnitz-am-20-11-25-achtung-aenderung/
LOCATION:Parkplatz Hohe Straße\, Hohe Straße\, Plauen\, Sachsen\, 08525\, Germany
CATEGORIES:Wanderung
END:VEVENT
BEGIN:VEVENT
DTSTART;TZID=Europe/Berlin:20251116T073000
DTEND;TZID=Europe/Berlin:20251116T180000
DTSTAMP:20260421T133059
CREATED:20251027T125328Z
LAST-MODIFIED:20251027T125328Z
UID:11915-1763278200-1763316000@www.naturfreunde-plauen.de
SUMMARY:Konzert des Bergsteigerchores in Dresden\, 16.11.2025
DESCRIPTION:Teilnehmer\, da dafür schon die Eintrittskarten bezahlt haben treffen sich\n07.35 Uhr in der Vorhalle des Oberen Bahnhofs. Zugabfahrt ist 08.00 Uhr; Ankunft Hbf. Dresden\n10.04 Uhr. Wir haben nach dem Konzert Plätze reserviert im „Pulverturm“ zum Mittagessen ab 13.30\nUhr. Die Rückfahrt ist 15.52 Uhr vom Hbf. Dresden geplant (Ankunft in Plauen 17.58 Uhr). Bitte vorab\nmitteilen\, wer eine Bahncard besitzt
URL:https://www.naturfreunde-plauen.de/veranstaltung/konzert-des-bergsteigerchores-in-dresden-16-11-2025/
LOCATION:Oberer Bahnhof Plauen\, Rathenauplatz 2\, Plauen\, Sachsen\, 08525\, Germany
CATEGORIES:Konzert/Theater,Kultur
END:VEVENT
BEGIN:VEVENT
DTSTART;TZID=Europe/Berlin:20251109T110000
DTEND;TZID=Europe/Berlin:20251109T170000
DTSTAMP:20260421T133059
CREATED:20251027T124511Z
LAST-MODIFIED:20251027T124511Z
UID:11911-1762686000-1762707600@www.naturfreunde-plauen.de
SUMMARY:Aktionstag für Frieden am 09.11.25 in Plauen
DESCRIPTION:Die aktuellen Kriege und der spürbare „Rechtsruck“\, nicht nur in unserem Land sowie die Aufrüstung und die Maßnahmen zur Kriegstüchtigkeit bereiten uns große Sorgen. Wir sollten dagegen „Aufstehen und Flagge“ an diesem Aktionstag zeigen.\nAb 11:00 Uhr Johanneskirchplatz\no Reden und musikalische Beiträge\no Friedenstauben werden aufsteigen\no Schmied: symbolisch „Schwerter zu Pflugscharen“ schmieden\no Die ökumenische FriedensDekade ruft dazu auf\, vom 09.-19.11.25 gemeinsam Zeichen zu setzen für: Verständigung\, Abrüstung und friedliche Welt. Motto: „Komm den Frieden wecken“.
URL:https://www.naturfreunde-plauen.de/veranstaltung/aktionstag-fuer-frieden-am-09-11-25-in-plauen/
LOCATION:Johanneskirchplatz\, Johanneskirchplatz\, Plauen\, deutsch\, 08523\, Germany
CATEGORIES:Sonderveranstaltungen
END:VEVENT
BEGIN:VEVENT
DTSTART;TZID=Europe/Berlin:20251108T193000
DTEND;TZID=Europe/Berlin:20251108T220000
DTSTAMP:20260421T133059
CREATED:20250910T165150Z
LAST-MODIFIED:20250910T165459Z
UID:11611-1762630200-1762639200@www.naturfreunde-plauen.de
SUMMARY:„Maria Luisa - zu viert ist man weniger allein“\, Kleine Bühne\, Sa. 08. 11. 25
DESCRIPTION:„Maria Luisa – zu viert ist man weniger allein“\, Schauspiel\, Kleine Bühne \nMeldungen zur Teilnahme bis möglichst spätestens 2 Wochen vor Termin der Vorstellung an Ottmar Müller\, Tel.: 03741/70 94 15 oder 0170 62 19 333\, E-Mail: familie.mueller.plauen@t-online.de\, bzw.  zum Vereinsabend 25. 09. 25 ( Auslage Teilnehmerlisten ) . \n 
URL:https://www.naturfreunde-plauen.de/veranstaltung/maria-luisa-zu-viert-ist-man-weniger-allein-kleine-buehne-sa-08-11-25/
CATEGORIES:Konzert/Theater
END:VEVENT
BEGIN:VEVENT
DTSTART;TZID=Europe/Berlin:20251102T090000
DTEND;TZID=Europe/Berlin:20251102T163000
DTSTAMP:20260421T133059
CREATED:20251027T123420Z
LAST-MODIFIED:20251027T123420Z
UID:11905-1762074000-1762101000@www.naturfreunde-plauen.de
SUMMARY:2.11.2025\, Wanderung zur Kohlewelt Oelsnitz/ERZ - Achtung Änderung der Abfahrtszeit!
DESCRIPTION:3 km/ 1 h Gehzeit/ leicht\nDatum: 02.11.2025\nTreff: 09:15 Uhr Plauen Oberer Bahnhof (DB: 09:39 Uhr)\nRückfahrt: 15:37 Uhr mit DB\nHinweise: Rucksackverpflegung\nTeilnehmer bereits angemeldet. Bitte bei Änderung sofort Bescheid geben!\n13 NF Grüna begleiten uns;\nKosten für Museumsbesuch mit Führung: 15 €/Pers.\nVerantwortlich: Bernd Wächter (Tel.: 0172/3682237)\nTilo Landgraf
URL:https://www.naturfreunde-plauen.de/veranstaltung/2-11-2025-wanderung-zur-kohlewelt-oelsnitz-erz-achtung-aenderung-der-abfahrtszeit/
LOCATION:Oberer Bahnhof Plauen\, Rathenauplatz 2\, Plauen\, Sachsen\, 08525\, Germany
CATEGORIES:Wanderung
END:VEVENT
BEGIN:VEVENT
DTSTART;TZID=Europe/Berlin:20251029T193000
DTEND;TZID=Europe/Berlin:20251029T220000
DTSTAMP:20260421T133059
CREATED:20250910T164856Z
LAST-MODIFIED:20250910T164856Z
UID:11608-1761766200-1761775200@www.naturfreunde-plauen.de
SUMMARY:Philh. Konzert\, „Wer hat hier Moll gesagt?“\, 29.10.2025
DESCRIPTION:3. Philh. Konzert\, „Wer hat hier Moll gesagt“ Schellb\, Novak\, Beethoven \n19.30 Uhr \nMeldungen zur Teilnahme bis möglichst spätestens 2 Wochen vor Termin der Vorstellung an Ottmar Müller\, Tel.: 03741/70 94 15 oder 0170 62 19 333\, E-Mail: familie.mueller.plauen@t-online.de \noder zum Vereinsabend 25. 09. 25 ( Auslage Teilnehmerlisten )
URL:https://www.naturfreunde-plauen.de/veranstaltung/philh-konzert-wer-hat-hier-moll-gesagt-29-10-2025/
CATEGORIES:Konzert/Theater
END:VEVENT
BEGIN:VEVENT
DTSTART;TZID=Europe/Berlin:20251027T080000
DTEND;TZID=Europe/Berlin:20251027T170000
DTSTAMP:20260421T133059
CREATED:20251027T124012Z
LAST-MODIFIED:20251027T124012Z
UID:11909-1761552000-1761584400@www.naturfreunde-plauen.de
SUMMARY:„Wo bin ich?" Erfahrungsaustausch mit dem Handy\, 17.11.2025 fällt aus!
DESCRIPTION:
URL:https://www.naturfreunde-plauen.de/veranstaltung/wo-bin-ich-erfahrungsaustausch-mit-dem-handy-17-11-2025-faellt-aus/
CATEGORIES:Wanderung
END:VEVENT
BEGIN:VEVENT
DTSTART;TZID=Europe/Berlin:20251005T084500
DTEND;TZID=Europe/Berlin:20251005T084500
DTSTAMP:20260421T133059
CREATED:20250816T165132Z
LAST-MODIFIED:20250816T165132Z
UID:11506-1759653900-1759653900@www.naturfreunde-plauen.de
SUMMARY:Sternwanderung der Partnerstädte Plauen - Hof - Asch am 05.10.2025\, Anmeldung bis 25.9.
DESCRIPTION:Das Ziel der diesjährigen Sternwanderung ist der malerische Hainberg in Asch. Dort erwartet alle Wanderfreunde ein herzliches Willkommen mit erfrischenden Getränken\, regionalen Köstlichkeiten und guter Laune. Alle können sich auf ein buntes Kulturprogramm\, kleine Erinnerungsgeschenke und viele schöne Begegnungen in entspannter Atmosphäre freuen.\nUm 14 Uhr heißen Vertreter der Partnerstädte Asch\, Plauen und Hof alle Teilnehmer offiziell willkommen – ein Moment des Miteinanders\, den man nicht verpassen sollte. Die Rückfahrt nach Plauen erfolgt bequem per Bus gegen 16 Uhr.\nWandern Sie mit! \nAblauf\nca. 08.45 Uhr: Abfahrt in Plauen (Hohe Straße)\n09.45 Uhr: 1. Halt\, Route 2\, Hranice (Rossbach) – Start Wanderung um 10.00 Uhr\n10.10 Uhr: 2. Halt\, Route 1\, Doubrava – Start Wanderung um 10.30 Uhr\n10.45 Uhr: 3. Halt\, Route 3\, Neuhausen / Nové Domy – Start Wanderung um 11.00 Uhr\n10.55 Uhr: 4. Halt\, Route 4\, Aš\, Goetheplatz – Start Wanderung um 11.00 Uhr\n14.00 Uhr: Begrüßung der Wanderer durch die Vertreter der Partnerstädte Hof\, Asch und Plauen\n16.00 Uhr: Heimreise mit dem Bus ab Sportanlage Háj \nRoutenverläufe\nRoute 2 (12 km\, geführt)\nStart: 10 Uhr Hranice (Rossbach)\, Masarykplatz\nRoute: Hranice (Rossbach) – Studánka (Thonbrunn) /Bahnhof – Podhradí (Neuberg)–\nWegkreuzung „Pod Hájem“ – Hügel Háj – Sportanlage Háj (Ziel)\nMarkierung: rote Wanderwegmarkierung im Abschnitt Hranice – Studánka / Bahnhof\nblaue Wanderwegmarkierung im Abschnitt Studánka / Bahnhof – Hügel Háj \nRoute 1 (7 km\, geführt)\nStart: 10:30 Uhr Doubrava (Grün)\, Dorfplatz (bei der Mineralquelle)\nRoute: Doubrava (Grün) – Talsperre „Bílý Halštrov“ – Wegkreuzung „Pod Hájem“ –\nHainberg – Sportanlage Háj (Ziel)\nMarkierung: gelbe Wanderwegmarkierung auf der gesamten Strecke \nRoute 3 (6 km\, individuell)\nStart: 11 Uhr Grenzübergang Neuhausen / Nové Domy\nRoute: Neuhausen / Nové Domy – Kreuzung Aš „Vorort“ – Aš\, Goethovo náměstí –\nHügel Háj – Sportanlage Háj (Ziel)\nMarkierung: gelbe Wanderwegmarkierung im Abschnitt Neuhausen / Nové Domy – Aš\, Goethovo\nNáměstí \nRoute Nr. 5 (3 km\, geführt\, auch in Deutsch)\nStart: 11 Uhr Aš\, Goethe-Platz\nRoute: Aš\, Goethe-Platz – Postplatz – Hügel Háj – Sportanlage Háj (Ziel)\nMarkierung: nicht markiert (Route gemäß Stadtführer) \nBitte die Teilnahme aus unserer Ortsgruppe bis 25.09.25 unter Angabe der\nvorgesehenen Wanderstrecke an den Vorstand melden.
URL:https://www.naturfreunde-plauen.de/veranstaltung/sternwanderung-der-partnerstaedte-plauen-hof-asch-am-05-10-2025-anmeldung-bis-25-9/
LOCATION:Parkplatz Hohe Straße\, Hohe Straße\, Plauen\, Sachsen\, 08525\, Germany
CATEGORIES:Wanderung
END:VEVENT
BEGIN:VEVENT
DTSTART;TZID=Europe/Berlin:20251004T090000
DTEND;TZID=Europe/Berlin:20251004T090000
DTSTAMP:20260421T133059
CREATED:20250816T170112Z
LAST-MODIFIED:20250816T170136Z
UID:11513-1759568400-1759568400@www.naturfreunde-plauen.de
SUMMARY:21. Westvogtländischer Wandertag: Auf den Spuren um Mödlareuth\, 04.10.2025
DESCRIPTION:21. Westvogtl. Wandertag 04.10.25 \nStart/Ziel: Festgelände Mödlareuth \n 
URL:https://www.naturfreunde-plauen.de/veranstaltung/21-westvogtlaendischer-wandertag-auf-den-spuren-um-moedlareuth-04-10-2025/
LOCATION:Festgelände Mödlareuth\, Mödlareuth 13\, Töpen\, 95183\, Germany
END:VEVENT
BEGIN:VEVENT
DTSTART;TZID=Europe/Berlin:20251001T080000
DTEND;TZID=Europe/Berlin:20251001T170000
DTSTAMP:20260421T133059
CREATED:20250910T162340Z
LAST-MODIFIED:20250910T162627Z
UID:11595-1759305600-1759338000@www.naturfreunde-plauen.de
SUMMARY:Seniorenwanderung Abzweig Zobes – Möschwitz\, 1.10.2025: Achtung Änderung!
DESCRIPTION:6 km / Einkehr im Edelweiß / zurück: 14:49 Uhr \nTreff: Treff: 09:10 Uhr (statt 08:10) Busbhf. Plauen Bst.C (63)\, Abfahrt: 9:37 Uhr\nInfo und Anmeldung: bis 23.09.2025 bei Peter Seibt\, Tel.: 03741/52 73 56 oder 0157 73 63 15 96\,  p.seibt@gmx.de
URL:https://www.naturfreunde-plauen.de/veranstaltung/seniorenwanderung-abzweig-zobes-moeschwitz-1-10-2025-achtung-aenderung/
CATEGORIES:Wanderung
END:VEVENT
BEGIN:VEVENT
DTSTART;TZID=Europe/Berlin:20250925T170000
DTEND;TZID=Europe/Berlin:20250925T170000
DTSTAMP:20260421T133059
CREATED:20250910T163602Z
LAST-MODIFIED:20250910T163602Z
UID:11600-1758819600-1758819600@www.naturfreunde-plauen.de
SUMMARY:Vereinsabend mit Fotoschau\, 25.09.2025
DESCRIPTION:Unsere Fotografen können ihre interessanten Bilder über Beamer für alle Naturfreunde in einem ersten Tagesordnungspunkt präsentieren \n\n\n\n\n\nBisher Bilder von Peter Seibt und Annelies Neudel vorgesehen\nWeitere Präsentationen möglich. Bitte beim Vorsitzenden anmelden.\n\n\n\n\nNochmalige Auslage der Teilnehmerlisten für die Sternwanderung am 05.10. und Rundwanderung Ziemestalbrücke am 02.10.25\n\nTreff: Pferdestall Pfaffengut
URL:https://www.naturfreunde-plauen.de/veranstaltung/vereinsabend-mit-fotoschau-25-09-2025/
LOCATION:Pferdestall PfG\, Sachsen\, Germany
CATEGORIES:Vereinsabend
END:VEVENT
BEGIN:VEVENT
DTSTART;TZID=Europe/Berlin:20250916T144500
DTEND;TZID=Europe/Berlin:20250916T170000
DTSTAMP:20260421T133059
CREATED:20250910T164037Z
LAST-MODIFIED:20250910T164037Z
UID:11605-1758033900-1758042000@www.naturfreunde-plauen.de
SUMMARY:Führung durch Sonderausstellung „Bomben auf Plauen“\, 16.09.2025
DESCRIPTION:Führung durch Sonderausstellung im Museum Plauen zum Thema „Bomben auf Plauen“ mit Gerd Naumann am 16.09.2025: \nTreff: bitte sich bis 14:45 Uhr am Museum einfinden. \nDie Kosten pro Person betragen 3\,50 € und werden durch den Vorsitzenden vorher eingesammelt.
URL:https://www.naturfreunde-plauen.de/veranstaltung/fuehrung-durch-sonderausstellung-bomben-auf-plauen-16-09-2025/
CATEGORIES:Kultur
END:VEVENT
BEGIN:VEVENT
DTSTART;TZID=Europe/Berlin:20250911T080000
DTEND;TZID=Europe/Berlin:20250911T170000
DTSTAMP:20260421T133059
CREATED:20250910T161314Z
LAST-MODIFIED:20250910T161314Z
UID:11592-1757577600-1757610000@www.naturfreunde-plauen.de
SUMMARY:Rundwanderung Witzschdorf – Zschopautal - Augustusburg am 11.09.2025
DESCRIPTION:Achtung Änderung Abfahrtszeit und Abfahrtsort \no Treff/Abfahrt: 08:00 Uhr Parkplatz Elsterpark Plauen\no Fahrt in Fahrtgemeinschaften mit PKW zum Ausgangspunkt der Wanderung\nBisher angemeldete Teilnehmer bereits informiert\nStart der Wanderung: ca. 09:15 Uhr Parkplatz Bahnhof Witzschdorf
URL:https://www.naturfreunde-plauen.de/veranstaltung/rundwanderung-witzschdorf-zschopautal-augustusburg-am-11-09-2025/
CATEGORIES:Wanderung
END:VEVENT
BEGIN:VEVENT
DTSTART;TZID=Europe/Berlin:20250910T080000
DTEND;TZID=Europe/Berlin:20250910T170000
DTSTAMP:20260421T133059
CREATED:20250910T170440Z
LAST-MODIFIED:20250910T170638Z
UID:11622-1757491200-1757523600@www.naturfreunde-plauen.de
SUMMARY:„Peer Gynt“ Edvard Grieg\, Ballett\, Premiere\, Sa\, 31. 01. 26
DESCRIPTION:„Peer Gynt“ Edvard Grieg\, Ballett\, Premiere \nMeldungen zur Teilnahme bis möglichst spätestens 2 Wochen vor Termin der Vorstellung an Ottmar Müller\, Tel.: 03741/70 94 15 oder 0170 62 19 333\, E-Mail: familie.mueller.plauen@t-online.de – bzw. zum Vereinsabend 25. 09. 25 ( Auslage Teilnehmerlisten)
URL:https://www.naturfreunde-plauen.de/veranstaltung/peer-gynt-edvard-grieg-ballett-premiere-sa-31-01-26/
CATEGORIES:Konzert/Theater,Kultur
END:VEVENT
END:VCALENDAR