BEGIN:VCALENDAR
VERSION:2.0
PRODID:-//NaturFreunde Plauen - ECPv6.15.19//NONSGML v1.0//EN
CALSCALE:GREGORIAN
METHOD:PUBLISH
X-WR-CALNAME:NaturFreunde Plauen
X-ORIGINAL-URL:https://www.naturfreunde-plauen.de
X-WR-CALDESC:Veranstaltungen für NaturFreunde Plauen
REFRESH-INTERVAL;VALUE=DURATION:PT1H
X-Robots-Tag:noindex
X-PUBLISHED-TTL:PT1H
BEGIN:VTIMEZONE
TZID:Europe/Berlin
BEGIN:DAYLIGHT
TZOFFSETFROM:+0100
TZOFFSETTO:+0200
TZNAME:CEST
DTSTART:20250330T010000
END:DAYLIGHT
BEGIN:STANDARD
TZOFFSETFROM:+0200
TZOFFSETTO:+0100
TZNAME:CET
DTSTART:20251026T010000
END:STANDARD
BEGIN:DAYLIGHT
TZOFFSETFROM:+0100
TZOFFSETTO:+0200
TZNAME:CEST
DTSTART:20260329T010000
END:DAYLIGHT
BEGIN:STANDARD
TZOFFSETFROM:+0200
TZOFFSETTO:+0100
TZNAME:CET
DTSTART:20261025T010000
END:STANDARD
BEGIN:DAYLIGHT
TZOFFSETFROM:+0100
TZOFFSETTO:+0200
TZNAME:CEST
DTSTART:20270328T010000
END:DAYLIGHT
BEGIN:STANDARD
TZOFFSETFROM:+0200
TZOFFSETTO:+0100
TZNAME:CET
DTSTART:20271031T010000
END:STANDARD
END:VTIMEZONE
BEGIN:VEVENT
DTSTART;TZID=Europe/Berlin:20260316T080000
DTEND;TZID=Europe/Berlin:20260319T170000
DTSTAMP:20260421T162518
CREATED:20251104T113235Z
LAST-MODIFIED:20251104T113235Z
UID:11938-1773648000-1773939600@www.naturfreunde-plauen.de
SUMMARY:„Wanderfahrt für Leseratten“ Montag 16.3. - Donnerstag 19.3.2026
DESCRIPTION:Teilnehmerzahl: Max. 20 Personen \nErlebnis-Hotel „Zur Schiffsmühle“ in Grimma/Höfgen\nPreise Übernachtung inkl. Frühstück (6 EUR/Person):\n– Einzelzimmer: 100 EUR pro Nacht\n– Doppelzimmer: 160 EUR pro Nacht\nNutzung Parkplatz und Saunalandschaft inklusive. \nAnfahrt:\nMit PKW in Fahrgemeinschaften. \nBisher vorgesehenes Rahmenprogramm:\n– Montag 16.3.26 – Gegen Mittag:\nFahrt von Plauen nach Grimma. Dort Stadtrundgang mit NF Siggi Wenzel.\nKaffeetrinken und anschließend Fahrt zur Unterkunft (ca. 10 Minuten).\nAbendessen im Gasthaus „Zur Wassermühle“ Höfgen.\n– Dienstag 17.3.26:\nWanderung ca. 10 km/Besichtigung/Einkehr noch zu planen.\nBei Interesse Nutzung Bowling-Anlage (25 EUR pro Bahn/Stunde inkl. Schuhe)\nAbendessen à la carte im Hotel-Restaurant.\n– Mittwoch 18.3.26:\nWanderung „Zu beiden Seiten der Mulde“ (ca. 12 km).\nBesichtigung/Einkehr noch zu planen.\nAbendessen à la carte im Hotel-Restaurant.\n– Donnerstag 19.3.26:\nFahrt nach Leipzig und Besuch der Buchmesse bzw. „Leipzig liest“. \nAlternative zu Auto:\nRegio-Bahn ab Grimma bis Leipzig Hbf. – ca. 30 Minuten/10 EUR.\nStraßenbahn zur Messe mit Eintrittskarte kostenlos.\nTickets für Buchmesse ab Dezember 2025 erhältlich. (Preise 2025: 25 Euro/21 Euro ermäßigt.\nVollständiges Programm ab 19.2.26 auf Website der Buchmesse).\nVerpflegung individuell (Imbissstände). Rückfahrt nach Plauen gegen Abend. \nOrganisation/Wanderleitung: Karin Todt\nBestätigung schon erfolgter Voranmeldungen (aktuell 11) und Neuanmeldungen\nbitte bis spätestens Freitag 28.11.2025 unter 0160/98357990 oder\nto.ka@t-online.de.
URL:https://www.naturfreunde-plauen.de/veranstaltung/wanderfahrt-fuer-leseratten-montag-16-3-donnerstag-19-3-2026/
CATEGORIES:Kultur,Wanderung
END:VEVENT
END:VCALENDAR