BEGIN:VCALENDAR
VERSION:2.0
PRODID:-//NaturFreunde Plauen - ECPv6.15.19//NONSGML v1.0//EN
CALSCALE:GREGORIAN
METHOD:PUBLISH
X-ORIGINAL-URL:https://www.naturfreunde-plauen.de
X-WR-CALDESC:Veranstaltungen für NaturFreunde Plauen
REFRESH-INTERVAL;VALUE=DURATION:PT1H
X-Robots-Tag:noindex
X-PUBLISHED-TTL:PT1H
BEGIN:VTIMEZONE
TZID:Europe/Berlin
BEGIN:DAYLIGHT
TZOFFSETFROM:+0100
TZOFFSETTO:+0200
TZNAME:CEST
DTSTART:20240331T010000
END:DAYLIGHT
BEGIN:STANDARD
TZOFFSETFROM:+0200
TZOFFSETTO:+0100
TZNAME:CET
DTSTART:20241027T010000
END:STANDARD
BEGIN:DAYLIGHT
TZOFFSETFROM:+0100
TZOFFSETTO:+0200
TZNAME:CEST
DTSTART:20250330T010000
END:DAYLIGHT
BEGIN:STANDARD
TZOFFSETFROM:+0200
TZOFFSETTO:+0100
TZNAME:CET
DTSTART:20251026T010000
END:STANDARD
BEGIN:DAYLIGHT
TZOFFSETFROM:+0100
TZOFFSETTO:+0200
TZNAME:CEST
DTSTART:20260329T010000
END:DAYLIGHT
BEGIN:STANDARD
TZOFFSETFROM:+0200
TZOFFSETTO:+0100
TZNAME:CET
DTSTART:20261025T010000
END:STANDARD
END:VTIMEZONE
BEGIN:VEVENT
DTSTART;TZID=Europe/Berlin:20251116T073000
DTEND;TZID=Europe/Berlin:20251116T180000
DTSTAMP:20260422T001929
CREATED:20251027T125328Z
LAST-MODIFIED:20251027T125328Z
UID:11915-1763278200-1763316000@www.naturfreunde-plauen.de
SUMMARY:Konzert des Bergsteigerchores in Dresden\, 16.11.2025
DESCRIPTION:Teilnehmer\, da dafür schon die Eintrittskarten bezahlt haben treffen sich\n07.35 Uhr in der Vorhalle des Oberen Bahnhofs. Zugabfahrt ist 08.00 Uhr; Ankunft Hbf. Dresden\n10.04 Uhr. Wir haben nach dem Konzert Plätze reserviert im „Pulverturm“ zum Mittagessen ab 13.30\nUhr. Die Rückfahrt ist 15.52 Uhr vom Hbf. Dresden geplant (Ankunft in Plauen 17.58 Uhr). Bitte vorab\nmitteilen\, wer eine Bahncard besitzt
URL:https://www.naturfreunde-plauen.de/veranstaltung/konzert-des-bergsteigerchores-in-dresden-16-11-2025/
LOCATION:Oberer Bahnhof Plauen\, Rathenauplatz 2\, Plauen\, Sachsen\, 08525\, Germany
CATEGORIES:Konzert/Theater,Kultur
END:VEVENT
END:VCALENDAR