BEGIN:VCALENDAR
VERSION:2.0
PRODID:-//NaturFreunde Plauen - ECPv6.15.19//NONSGML v1.0//EN
CALSCALE:GREGORIAN
METHOD:PUBLISH
X-WR-CALNAME:NaturFreunde Plauen
X-ORIGINAL-URL:https://www.naturfreunde-plauen.de
X-WR-CALDESC:Veranstaltungen für NaturFreunde Plauen
REFRESH-INTERVAL;VALUE=DURATION:PT1H
X-Robots-Tag:noindex
X-PUBLISHED-TTL:PT1H
BEGIN:VTIMEZONE
TZID:Europe/Berlin
BEGIN:DAYLIGHT
TZOFFSETFROM:+0100
TZOFFSETTO:+0200
TZNAME:CEST
DTSTART:20240331T010000
END:DAYLIGHT
BEGIN:STANDARD
TZOFFSETFROM:+0200
TZOFFSETTO:+0100
TZNAME:CET
DTSTART:20241027T010000
END:STANDARD
BEGIN:DAYLIGHT
TZOFFSETFROM:+0100
TZOFFSETTO:+0200
TZNAME:CEST
DTSTART:20250330T010000
END:DAYLIGHT
BEGIN:STANDARD
TZOFFSETFROM:+0200
TZOFFSETTO:+0100
TZNAME:CET
DTSTART:20251026T010000
END:STANDARD
BEGIN:DAYLIGHT
TZOFFSETFROM:+0100
TZOFFSETTO:+0200
TZNAME:CEST
DTSTART:20260329T010000
END:DAYLIGHT
BEGIN:STANDARD
TZOFFSETFROM:+0200
TZOFFSETTO:+0100
TZNAME:CET
DTSTART:20261025T010000
END:STANDARD
END:VTIMEZONE
BEGIN:VEVENT
DTSTART;TZID=Europe/Berlin:20250830T090000
DTEND;TZID=Europe/Berlin:20250830T090000
DTSTAMP:20260422T012643
CREATED:20250716T094337Z
LAST-MODIFIED:20250716T094416Z
UID:11404-1756544400-1756544400@www.naturfreunde-plauen.de
SUMMARY:Rundwanderung „Kleinste Talsperre Europas“\, 30.08.2025
DESCRIPTION:10 km / 3 h Gehzeit / mittel / Rucksackverpflegung\nTreff: 09:00 Uhr Parkplatz Hohe Straße in Plauen\nInfo und Anmeldung: bis 23.08.2025 bei Frank Zschächner\, Tel.: 0162 16 26 664 E-Mail: frankzschaechner@gmail.com
URL:https://www.naturfreunde-plauen.de/veranstaltung/rundwanderung-kleinste-talsperre-europas-30-08-2025/
LOCATION:Parkplatz Hohe Straße\, Hohe Straße\, Plauen\, Sachsen\, 08525\, Germany
CATEGORIES:Wanderung
END:VEVENT
END:VCALENDAR