BEGIN:VCALENDAR
VERSION:2.0
PRODID:-//NaturFreunde Plauen - ECPv6.15.19//NONSGML v1.0//EN
CALSCALE:GREGORIAN
METHOD:PUBLISH
X-ORIGINAL-URL:https://www.naturfreunde-plauen.de
X-WR-CALDESC:Veranstaltungen für NaturFreunde Plauen
REFRESH-INTERVAL;VALUE=DURATION:PT1H
X-Robots-Tag:noindex
X-PUBLISHED-TTL:PT1H
BEGIN:VTIMEZONE
TZID:Europe/Berlin
BEGIN:DAYLIGHT
TZOFFSETFROM:+0100
TZOFFSETTO:+0200
TZNAME:CEST
DTSTART:20240331T010000
END:DAYLIGHT
BEGIN:STANDARD
TZOFFSETFROM:+0200
TZOFFSETTO:+0100
TZNAME:CET
DTSTART:20241027T010000
END:STANDARD
BEGIN:DAYLIGHT
TZOFFSETFROM:+0100
TZOFFSETTO:+0200
TZNAME:CEST
DTSTART:20250330T010000
END:DAYLIGHT
BEGIN:STANDARD
TZOFFSETFROM:+0200
TZOFFSETTO:+0100
TZNAME:CET
DTSTART:20251026T010000
END:STANDARD
BEGIN:DAYLIGHT
TZOFFSETFROM:+0100
TZOFFSETTO:+0200
TZNAME:CEST
DTSTART:20260329T010000
END:DAYLIGHT
BEGIN:STANDARD
TZOFFSETFROM:+0200
TZOFFSETTO:+0100
TZNAME:CET
DTSTART:20261025T010000
END:STANDARD
END:VTIMEZONE
BEGIN:VEVENT
DTSTART;TZID=Europe/Berlin:20250822T170000
DTEND;TZID=Europe/Berlin:20250822T170000
DTSTAMP:20260422T025029
CREATED:20250608T160301Z
LAST-MODIFIED:20250608T160334Z
UID:11235-1755882000-1755882000@www.naturfreunde-plauen.de
SUMMARY:7. Vogtländischer Folkabend am 22.08.2025 im Pfaffengut
DESCRIPTION:Musik – Tanz – Genuss\, für leibliches Wohl und Getränke wird gesorgt \n17 Uhr bis Mitternacht \n7. Vogl. Folkabend 22.08.25 Vorderseite Flyer 7. Vogtl. Folkabend 22.08.25 Rückseite Flyer
URL:https://www.naturfreunde-plauen.de/veranstaltung/7-vogtlaendischer-folkabend-am-22-08-2025-im-pfaffengut/
LOCATION:Pfaffengut plauen\, Pfaffengutstraße 16\, 08525 Plauen\, Germany
CATEGORIES:Konzert/Theater,Kultur
END:VEVENT
END:VCALENDAR