BEGIN:VCALENDAR
VERSION:2.0
PRODID:-//NaturFreunde Plauen - ECPv6.15.19//NONSGML v1.0//EN
CALSCALE:GREGORIAN
METHOD:PUBLISH
X-ORIGINAL-URL:https://www.naturfreunde-plauen.de
X-WR-CALDESC:Veranstaltungen für NaturFreunde Plauen
REFRESH-INTERVAL;VALUE=DURATION:PT1H
X-Robots-Tag:noindex
X-PUBLISHED-TTL:PT1H
BEGIN:VTIMEZONE
TZID:Europe/Berlin
BEGIN:DAYLIGHT
TZOFFSETFROM:+0100
TZOFFSETTO:+0200
TZNAME:CEST
DTSTART:20240331T010000
END:DAYLIGHT
BEGIN:STANDARD
TZOFFSETFROM:+0200
TZOFFSETTO:+0100
TZNAME:CET
DTSTART:20241027T010000
END:STANDARD
BEGIN:DAYLIGHT
TZOFFSETFROM:+0100
TZOFFSETTO:+0200
TZNAME:CEST
DTSTART:20250330T010000
END:DAYLIGHT
BEGIN:STANDARD
TZOFFSETFROM:+0200
TZOFFSETTO:+0100
TZNAME:CET
DTSTART:20251026T010000
END:STANDARD
BEGIN:DAYLIGHT
TZOFFSETFROM:+0100
TZOFFSETTO:+0200
TZNAME:CEST
DTSTART:20260329T010000
END:DAYLIGHT
BEGIN:STANDARD
TZOFFSETFROM:+0200
TZOFFSETTO:+0100
TZNAME:CET
DTSTART:20261025T010000
END:STANDARD
END:VTIMEZONE
BEGIN:VEVENT
DTSTART;TZID=Europe/Berlin:20250726T100000
DTEND;TZID=Europe/Berlin:20250726T100000
DTSTAMP:20260423T113214
CREATED:20250716T084938Z
LAST-MODIFIED:20250716T084938Z
UID:11377-1753524000-1753524000@www.naturfreunde-plauen.de
SUMMARY:Beobachtung und Fotografieren von Schmetterlingen\, 26.07.2025
DESCRIPTION:5 km / 2 h Gehzeit / leicht / Rucksackverpflegung\nTreff: 10:00 Uhr Plauen\, Parkplatz Hohe Straße\nHinweis: NSG „Großer Weidenteich“\nInfo und Anmeldung: bis 20.07.2025 bei Rolf Kretzschmar (Tel.: 03741/52 45 53)
URL:https://www.naturfreunde-plauen.de/veranstaltung/beobachtung-und-fotografieren-von-schmetterlingen-26-07-2025/
LOCATION:Parkplatz Hohe Straße\, Hohe Straße\, Plauen\, Sachsen\, 08525\, Germany
CATEGORIES:Wanderung
END:VEVENT
END:VCALENDAR