BEGIN:VCALENDAR
VERSION:2.0
PRODID:-//NaturFreunde Plauen - ECPv6.15.19//NONSGML v1.0//EN
CALSCALE:GREGORIAN
METHOD:PUBLISH
X-ORIGINAL-URL:https://www.naturfreunde-plauen.de
X-WR-CALDESC:Veranstaltungen für NaturFreunde Plauen
REFRESH-INTERVAL;VALUE=DURATION:PT1H
X-Robots-Tag:noindex
X-PUBLISHED-TTL:PT1H
BEGIN:VTIMEZONE
TZID:Europe/Berlin
BEGIN:DAYLIGHT
TZOFFSETFROM:+0100
TZOFFSETTO:+0200
TZNAME:CEST
DTSTART:20240331T010000
END:DAYLIGHT
BEGIN:STANDARD
TZOFFSETFROM:+0200
TZOFFSETTO:+0100
TZNAME:CET
DTSTART:20241027T010000
END:STANDARD
BEGIN:DAYLIGHT
TZOFFSETFROM:+0100
TZOFFSETTO:+0200
TZNAME:CEST
DTSTART:20250330T010000
END:DAYLIGHT
BEGIN:STANDARD
TZOFFSETFROM:+0200
TZOFFSETTO:+0100
TZNAME:CET
DTSTART:20251026T010000
END:STANDARD
BEGIN:DAYLIGHT
TZOFFSETFROM:+0100
TZOFFSETTO:+0200
TZNAME:CEST
DTSTART:20260329T010000
END:DAYLIGHT
BEGIN:STANDARD
TZOFFSETFROM:+0200
TZOFFSETTO:+0100
TZNAME:CET
DTSTART:20261025T010000
END:STANDARD
END:VTIMEZONE
BEGIN:VEVENT
DTSTART;TZID=Europe/Berlin:20250711T000000
DTEND;TZID=Europe/Berlin:20250717T000000
DTSTAMP:20260422T025059
CREATED:20250703T104401Z
LAST-MODIFIED:20250705T114802Z
UID:11317-1752192000-1752710400@www.naturfreunde-plauen.de
SUMMARY:Aktionswoche zum 35-jährigen Jubiläum der Naturfreunde seit Wiedergründung 1990
DESCRIPTION:Info Naturfreunde Plauen zur Aktionswoche vom 11.07.-17.07.2025 \nFeiert mit uns: Aktionswoche vom 11.07. – 17.07.2025! \nEin Jubiläumsjahr voller Highlights und Gemeinschaftserlebnissen \nDieses Jahr feiern wir bedeutende Meilensteine: \n\n130 Jahre Gründung der Naturfreunde\n120 Jahre Naturfreunde Deutschland\n35 Jahre Wiedergründung der Naturfreunde Plauen\n\nUm diese besonderen Anlässe gebührend zu würdigen\, laden wir euch und alle Interessierten herzlich zu unserer vielfältigen Aktionswoche ein! Entdeckt unsere spannenden Angebote und Aktivitäten in den Fachgruppen – für Naturbegeisterte\, Abenteurer und alle\, die Gemeinschaft und Natur lieben. \nSeid mit dabei\, erlebt unvergessliche Momente und feiert mit uns die Geschichte und Zukunft der Naturfreunde zur Festveranstaltung am 19.07.2025! \nWir freuen uns auf Euch! Und denkt bitte daran: Nur wenn wir nach außen einheitlich  \n(T-Shirt) geschlossen und zahlreich auftreten können wir andere von uns überzeugen.  \nUnsere FG – Leiter stehen bereit und freuen sich auf eure Teilnahme.
URL:https://www.naturfreunde-plauen.de/veranstaltung/aktionswoche-zum-35-jaehrigen-jubilaeum-der-naturfreunde-seit-wiedergruendung-1990/
CATEGORIES:Sonderveranstaltungen
END:VEVENT
END:VCALENDAR