BEGIN:VCALENDAR
VERSION:2.0
PRODID:-//NaturFreunde Plauen - ECPv6.15.19//NONSGML v1.0//EN
CALSCALE:GREGORIAN
METHOD:PUBLISH
X-WR-CALNAME:NaturFreunde Plauen
X-ORIGINAL-URL:https://www.naturfreunde-plauen.de
X-WR-CALDESC:Veranstaltungen für NaturFreunde Plauen
REFRESH-INTERVAL;VALUE=DURATION:PT1H
X-Robots-Tag:noindex
X-PUBLISHED-TTL:PT1H
BEGIN:VTIMEZONE
TZID:Europe/Berlin
BEGIN:DAYLIGHT
TZOFFSETFROM:+0100
TZOFFSETTO:+0200
TZNAME:CEST
DTSTART:20240331T010000
END:DAYLIGHT
BEGIN:STANDARD
TZOFFSETFROM:+0200
TZOFFSETTO:+0100
TZNAME:CET
DTSTART:20241027T010000
END:STANDARD
BEGIN:DAYLIGHT
TZOFFSETFROM:+0100
TZOFFSETTO:+0200
TZNAME:CEST
DTSTART:20250330T010000
END:DAYLIGHT
BEGIN:STANDARD
TZOFFSETFROM:+0200
TZOFFSETTO:+0100
TZNAME:CET
DTSTART:20251026T010000
END:STANDARD
BEGIN:DAYLIGHT
TZOFFSETFROM:+0100
TZOFFSETTO:+0200
TZNAME:CEST
DTSTART:20260329T010000
END:DAYLIGHT
BEGIN:STANDARD
TZOFFSETFROM:+0200
TZOFFSETTO:+0100
TZNAME:CET
DTSTART:20261025T010000
END:STANDARD
END:VTIMEZONE
BEGIN:VEVENT
DTSTART;TZID=Europe/Berlin:20250705T074500
DTEND;TZID=Europe/Berlin:20250705T155100
DTSTAMP:20260422T024724
CREATED:20250521T155517Z
LAST-MODIFIED:20250521T155614Z
UID:11119-1751701500-1751730660@www.naturfreunde-plauen.de
SUMMARY:Wanderung Chemnitzer Höhenweg\, Samstag\, 05.07.2025
DESCRIPTION:18 km / 5 h Gehzeit / schwer / Rucksackverpflegung\nTreff: 07:45 Uhr Oberer Bahnhof\, Plauen\n(DB ab: 08:00 Uhr; zurück: 15:51 Uhr)\nInfo und Anmeldung: bis 25.06.2025 bei Bernd Wächter\, Tel.: 0172 36 82 237 E-Mail: naturfreunde.plauen@gmx.de
URL:https://www.naturfreunde-plauen.de/veranstaltung/wanderung-chemnitzer-hoehenweg-samstag-05-07-2025/
LOCATION:Oberer Bahnhof Plauen\, Rathenauplatz 2\, Plauen\, Sachsen\, 08525\, Germany
CATEGORIES:Wanderung
END:VEVENT
END:VCALENDAR