BEGIN:VCALENDAR
VERSION:2.0
PRODID:-//NaturFreunde Plauen - ECPv6.15.19//NONSGML v1.0//EN
CALSCALE:GREGORIAN
METHOD:PUBLISH
X-ORIGINAL-URL:https://www.naturfreunde-plauen.de
X-WR-CALDESC:Veranstaltungen für NaturFreunde Plauen
REFRESH-INTERVAL;VALUE=DURATION:PT1H
X-Robots-Tag:noindex
X-PUBLISHED-TTL:PT1H
BEGIN:VTIMEZONE
TZID:Europe/Berlin
BEGIN:DAYLIGHT
TZOFFSETFROM:+0100
TZOFFSETTO:+0200
TZNAME:CEST
DTSTART:20240331T010000
END:DAYLIGHT
BEGIN:STANDARD
TZOFFSETFROM:+0200
TZOFFSETTO:+0100
TZNAME:CET
DTSTART:20241027T010000
END:STANDARD
BEGIN:DAYLIGHT
TZOFFSETFROM:+0100
TZOFFSETTO:+0200
TZNAME:CEST
DTSTART:20250330T010000
END:DAYLIGHT
BEGIN:STANDARD
TZOFFSETFROM:+0200
TZOFFSETTO:+0100
TZNAME:CET
DTSTART:20251026T010000
END:STANDARD
BEGIN:DAYLIGHT
TZOFFSETFROM:+0100
TZOFFSETTO:+0200
TZNAME:CEST
DTSTART:20260329T010000
END:DAYLIGHT
BEGIN:STANDARD
TZOFFSETFROM:+0200
TZOFFSETTO:+0100
TZNAME:CET
DTSTART:20261025T010000
END:STANDARD
END:VTIMEZONE
BEGIN:VEVENT
DTSTART;TZID=Europe/Berlin:20250620T080000
DTEND;TZID=Europe/Berlin:20250623T170000
DTSTAMP:20260424T114934
CREATED:20250426T140525Z
LAST-MODIFIED:20250426T140525Z
UID:10856-1750406400-1750698000@www.naturfreunde-plauen.de
SUMMARY:Freitag-Montag\, 20.06.-23.06.2025 Mehrtagestour in die Sächsische Schweiz
DESCRIPTION:6-12 km / 3-6 h Gehzeit / leicht-schwer / Rucksackverpegung\nTreff und Hinweise: nach gesondertem Plan\nInfo und Anmeldungen: bereits erfolgt bei Anne Langwald und Petra Rudorf
URL:https://www.naturfreunde-plauen.de/veranstaltung/freitag-montag-20-06-23-06-2025-mehrtagestour-in-die-saechsische-schweiz/
CATEGORIES:Wanderung
END:VEVENT
BEGIN:VEVENT
DTSTART;TZID=Europe/Berlin:20250622T100000
DTEND;TZID=Europe/Berlin:20250622T170000
DTSTAMP:20260424T114934
CREATED:20250426T141004Z
LAST-MODIFIED:20250426T141004Z
UID:10861-1750586400-1750611600@www.naturfreunde-plauen.de
SUMMARY:Sonntag\, 22.06.2025 Wanderung mit dem TSV 1861 Hof zum Kemmler
DESCRIPTION:12 km/ 3\,5 h Gehzeit/ mittel/ Rucksackverpflegung\nTreff: 10:00 Uhr Plauen Parkplatz Elsterpark\nHinweis: gemeinsame jährliche Wanderung mit Wanderfreunden\nInfo und Anmeldung: bis 15.06.2025 bei Bernd Wächter\, Tel.: 0172 36 82 237 E-Mail: naturfreunde.plauen@gmx.de
URL:https://www.naturfreunde-plauen.de/veranstaltung/sonntag-22-06-2025-wanderung-mit-dem-tsv-1861-hof-zum-kemmler/
LOCATION:Elsterpark\, Äußere Reichenbacher Straße 64\, Plauen\, 08529\, Germany
CATEGORIES:Wanderung
END:VEVENT
END:VCALENDAR