BEGIN:VCALENDAR
VERSION:2.0
PRODID:-//NaturFreunde Plauen - ECPv6.15.19//NONSGML v1.0//EN
CALSCALE:GREGORIAN
METHOD:PUBLISH
X-ORIGINAL-URL:https://www.naturfreunde-plauen.de
X-WR-CALDESC:Veranstaltungen für NaturFreunde Plauen
REFRESH-INTERVAL;VALUE=DURATION:PT1H
X-Robots-Tag:noindex
X-PUBLISHED-TTL:PT1H
BEGIN:VTIMEZONE
TZID:Europe/Berlin
BEGIN:DAYLIGHT
TZOFFSETFROM:+0100
TZOFFSETTO:+0200
TZNAME:CEST
DTSTART:20240331T010000
END:DAYLIGHT
BEGIN:STANDARD
TZOFFSETFROM:+0200
TZOFFSETTO:+0100
TZNAME:CET
DTSTART:20241027T010000
END:STANDARD
BEGIN:DAYLIGHT
TZOFFSETFROM:+0100
TZOFFSETTO:+0200
TZNAME:CEST
DTSTART:20250330T010000
END:DAYLIGHT
BEGIN:STANDARD
TZOFFSETFROM:+0200
TZOFFSETTO:+0100
TZNAME:CET
DTSTART:20251026T010000
END:STANDARD
BEGIN:DAYLIGHT
TZOFFSETFROM:+0100
TZOFFSETTO:+0200
TZNAME:CEST
DTSTART:20260329T010000
END:DAYLIGHT
BEGIN:STANDARD
TZOFFSETFROM:+0200
TZOFFSETTO:+0100
TZNAME:CET
DTSTART:20261025T010000
END:STANDARD
END:VTIMEZONE
BEGIN:VEVENT
DTSTART;TZID=Europe/Berlin:20250614T180000
DTEND;TZID=Europe/Berlin:20250614T200000
DTSTAMP:20260424T114844
CREATED:20250606T182656Z
LAST-MODIFIED:20250606T183235Z
UID:11182-1749924000-1749931200@www.naturfreunde-plauen.de
SUMMARY:Ausstellung “GESTAUTE WASSER – Talsperren in der Kunst”\, Vernissage Samstag\, 14.06.25\, 18 Uhr
DESCRIPTION:Vogtland und Sachsen bieten eine außergewöhnliche Vielfalt an weitläufigen Talsperren. Als technische Bauwerke sind Talsperren wahre Meisterleistungen.\n– Die Ausstellung “GESTAUTE WASSER – Talsperren in der Kunst” beantwortet diese Frage. Ausstellungseröffnung am Samstag\, den 14. Juni 2025 um 18 Uhr in der Galerie im Malzhaus.
URL:https://www.naturfreunde-plauen.de/veranstaltung/ausstellung-gestaute-wasser-talsperren-in-der-kunst-vernissage-freitag-14-06-25-18-uhr/
LOCATION:Malzhaus\, Alter Teich 7-9\, Plauen\, 08527\, Germany
CATEGORIES:Kultur
END:VEVENT
END:VCALENDAR