BEGIN:VCALENDAR
VERSION:2.0
PRODID:-//NaturFreunde Plauen - ECPv6.15.19//NONSGML v1.0//EN
CALSCALE:GREGORIAN
METHOD:PUBLISH
X-WR-CALNAME:NaturFreunde Plauen
X-ORIGINAL-URL:https://www.naturfreunde-plauen.de
X-WR-CALDESC:Veranstaltungen für NaturFreunde Plauen
REFRESH-INTERVAL;VALUE=DURATION:PT1H
X-Robots-Tag:noindex
X-PUBLISHED-TTL:PT1H
BEGIN:VTIMEZONE
TZID:Europe/Berlin
BEGIN:DAYLIGHT
TZOFFSETFROM:+0100
TZOFFSETTO:+0200
TZNAME:CEST
DTSTART:20240331T010000
END:DAYLIGHT
BEGIN:STANDARD
TZOFFSETFROM:+0200
TZOFFSETTO:+0100
TZNAME:CET
DTSTART:20241027T010000
END:STANDARD
BEGIN:DAYLIGHT
TZOFFSETFROM:+0100
TZOFFSETTO:+0200
TZNAME:CEST
DTSTART:20250330T010000
END:DAYLIGHT
BEGIN:STANDARD
TZOFFSETFROM:+0200
TZOFFSETTO:+0100
TZNAME:CET
DTSTART:20251026T010000
END:STANDARD
BEGIN:DAYLIGHT
TZOFFSETFROM:+0100
TZOFFSETTO:+0200
TZNAME:CEST
DTSTART:20260329T010000
END:DAYLIGHT
BEGIN:STANDARD
TZOFFSETFROM:+0200
TZOFFSETTO:+0100
TZNAME:CET
DTSTART:20261025T010000
END:STANDARD
END:VTIMEZONE
BEGIN:VEVENT
DTSTART;TZID=Europe/Berlin:20250602T102000
DTEND;TZID=Europe/Berlin:20250602T170000
DTSTAMP:20260424T155715
CREATED:20250426T134111Z
LAST-MODIFIED:20250521T145339Z
UID:10832-1748859600-1748883600@www.naturfreunde-plauen.de
SUMMARY:Montag\, 02.06.2025 Geologische Exkursion bei Straßberg\, Achtung Änderung!
DESCRIPTION:5 km / 2\,5 h Gehzeit / leicht / Rucksackverpflegung\nTreff: 10:20 Uhr Haltepunkt DB Straßberg (da Schienenersatzverkehr ab 10:05 vom Oberen Bahnhof) \nHinweis: Teilnahme von Wanderern des des Blinden- und Sehbehinderten Verbandes Plauen (BSBV)\,\nleichte und verständliche Wanderung zu geologischen Besonderheiten.\nInfo und Anmeldung: bis 25.05.2025 bei Bianca Hallebach\, 0151 46 52 55 97 E-Mail: info@goldschmiede-hallebach.de \n 
URL:https://www.naturfreunde-plauen.de/veranstaltung/montag-02-06-2025-geologische-exkursion-bei-strassberg/
CATEGORIES:Wanderung
END:VEVENT
END:VCALENDAR