BEGIN:VCALENDAR
VERSION:2.0
PRODID:-//NaturFreunde Plauen - ECPv6.15.19//NONSGML v1.0//EN
CALSCALE:GREGORIAN
METHOD:PUBLISH
X-WR-CALNAME:NaturFreunde Plauen
X-ORIGINAL-URL:https://www.naturfreunde-plauen.de
X-WR-CALDESC:Veranstaltungen für NaturFreunde Plauen
REFRESH-INTERVAL;VALUE=DURATION:PT1H
X-Robots-Tag:noindex
X-PUBLISHED-TTL:PT1H
BEGIN:VTIMEZONE
TZID:Europe/Berlin
BEGIN:DAYLIGHT
TZOFFSETFROM:+0100
TZOFFSETTO:+0200
TZNAME:CEST
DTSTART:20240331T010000
END:DAYLIGHT
BEGIN:STANDARD
TZOFFSETFROM:+0200
TZOFFSETTO:+0100
TZNAME:CET
DTSTART:20241027T010000
END:STANDARD
BEGIN:DAYLIGHT
TZOFFSETFROM:+0100
TZOFFSETTO:+0200
TZNAME:CEST
DTSTART:20250330T010000
END:DAYLIGHT
BEGIN:STANDARD
TZOFFSETFROM:+0200
TZOFFSETTO:+0100
TZNAME:CET
DTSTART:20251026T010000
END:STANDARD
BEGIN:DAYLIGHT
TZOFFSETFROM:+0100
TZOFFSETTO:+0200
TZNAME:CEST
DTSTART:20260329T010000
END:DAYLIGHT
BEGIN:STANDARD
TZOFFSETFROM:+0200
TZOFFSETTO:+0100
TZNAME:CET
DTSTART:20261025T010000
END:STANDARD
END:VTIMEZONE
BEGIN:VEVENT
DTSTART;TZID=Europe/Berlin:20250601T100000
DTEND;TZID=Europe/Berlin:20250601T170000
DTSTAMP:20260424T114530
CREATED:20250426T132544Z
LAST-MODIFIED:20250426T134257Z
UID:10824-1748772000-1748797200@www.naturfreunde-plauen.de
SUMMARY:Sonntag\, 01.06.2025  Geologische Exkursion im Goldbachtal
DESCRIPTION:8 km / 4 h Gehzeit / mittel / Einkehr im „Cambrinus“ vorgesehen\nTreff: 10:00 Uhr Parkplatz gegenüber „Cambrinus“\nPlauen OT Straßberg\, Hauptstr. 21\nHinweis: Unkostenbeitrag von 5 €\nInfo und Anmeldung: bis 25.05.2025 bei Bianca Hallebach\, 0151 46 52 55 97\, info@goldschmiede-hallebach.de
URL:https://www.naturfreunde-plauen.de/veranstaltung/sonntag-01-06-2025-geologische-exkursion-im-goldbachtal/
CATEGORIES:Wanderung
END:VEVENT
END:VCALENDAR