BEGIN:VCALENDAR
VERSION:2.0
PRODID:-//NaturFreunde Plauen - ECPv6.15.19//NONSGML v1.0//EN
CALSCALE:GREGORIAN
METHOD:PUBLISH
X-ORIGINAL-URL:https://www.naturfreunde-plauen.de
X-WR-CALDESC:Veranstaltungen für NaturFreunde Plauen
REFRESH-INTERVAL;VALUE=DURATION:PT1H
X-Robots-Tag:noindex
X-PUBLISHED-TTL:PT1H
BEGIN:VTIMEZONE
TZID:Europe/Berlin
BEGIN:DAYLIGHT
TZOFFSETFROM:+0100
TZOFFSETTO:+0200
TZNAME:CEST
DTSTART:20240331T010000
END:DAYLIGHT
BEGIN:STANDARD
TZOFFSETFROM:+0200
TZOFFSETTO:+0100
TZNAME:CET
DTSTART:20241027T010000
END:STANDARD
BEGIN:DAYLIGHT
TZOFFSETFROM:+0100
TZOFFSETTO:+0200
TZNAME:CEST
DTSTART:20250330T010000
END:DAYLIGHT
BEGIN:STANDARD
TZOFFSETFROM:+0200
TZOFFSETTO:+0100
TZNAME:CET
DTSTART:20251026T010000
END:STANDARD
BEGIN:DAYLIGHT
TZOFFSETFROM:+0100
TZOFFSETTO:+0200
TZNAME:CEST
DTSTART:20260329T010000
END:DAYLIGHT
BEGIN:STANDARD
TZOFFSETFROM:+0200
TZOFFSETTO:+0100
TZNAME:CET
DTSTART:20261025T010000
END:STANDARD
END:VTIMEZONE
BEGIN:VEVENT
DTSTART;TZID=Europe/Berlin:20250427T090000
DTEND;TZID=Europe/Berlin:20250427T170000
DTSTAMP:20260422T081413
CREATED:20250425T125929Z
LAST-MODIFIED:20250426T141745Z
UID:10778-1745744400-1745773200@www.naturfreunde-plauen.de
SUMMARY:Sonntag\, 27.04.2025 Wanderung entlang des "Grünen Bandes"
DESCRIPTION:12\,5 km\, 4 h Gehzeit\, mittel\, Rucksackverpflegung \nHinweis: auf den Spuren von Prof. Eduard Johnson \nInfo\, Anm. bis 20.4.2025 bei Cornelia Keil\, 0162-6366398\, sil.keil@t-online.de \nTreff: Wanderparkplatz Ullitz
URL:https://www.naturfreunde-plauen.de/veranstaltung/wanderung-entlang-des-gruenen-bandes/
LOCATION:Wanderparkplatz Ullitz\, Triebel\, 08606\, Germany
CATEGORIES:Wanderung
END:VEVENT
BEGIN:VEVENT
DTSTART;TZID=Europe/Berlin:20250427T100000
DTEND;TZID=Europe/Berlin:20250427T170000
DTSTAMP:20260422T081413
CREATED:20250425T130706Z
LAST-MODIFIED:20250425T132509Z
UID:10783-1745748000-1745773200@www.naturfreunde-plauen.de
SUMMARY:Sonntag\, 27.04.2025: Tages-Radtour "Burgruine Elsterberg"
DESCRIPTION:Tour 48 km\, Einkehr vorgesehen \nInfo und Anmeldung: bis 20.4.2025 bei Sabine Seidel\, 0176-77874481\, sab.seidel@t-online.de
URL:https://www.naturfreunde-plauen.de/veranstaltung/tages-ratour-burgruine-elsterberg/
LOCATION:Alte Elsterbrücke\, Plauen\, 08527\, Germany
CATEGORIES:Radfahren
END:VEVENT
END:VCALENDAR