BEGIN:VCALENDAR
VERSION:2.0
PRODID:-//NaturFreunde Plauen - ECPv6.15.19//NONSGML v1.0//EN
CALSCALE:GREGORIAN
METHOD:PUBLISH
X-WR-CALNAME:NaturFreunde Plauen
X-ORIGINAL-URL:https://www.naturfreunde-plauen.de
X-WR-CALDESC:Veranstaltungen für NaturFreunde Plauen
REFRESH-INTERVAL;VALUE=DURATION:PT1H
X-Robots-Tag:noindex
X-PUBLISHED-TTL:PT1H
BEGIN:VTIMEZONE
TZID:Europe/Berlin
BEGIN:DAYLIGHT
TZOFFSETFROM:+0100
TZOFFSETTO:+0200
TZNAME:CEST
DTSTART:20240331T010000
END:DAYLIGHT
BEGIN:STANDARD
TZOFFSETFROM:+0200
TZOFFSETTO:+0100
TZNAME:CET
DTSTART:20241027T010000
END:STANDARD
BEGIN:DAYLIGHT
TZOFFSETFROM:+0100
TZOFFSETTO:+0200
TZNAME:CEST
DTSTART:20250330T010000
END:DAYLIGHT
BEGIN:STANDARD
TZOFFSETFROM:+0200
TZOFFSETTO:+0100
TZNAME:CET
DTSTART:20251026T010000
END:STANDARD
BEGIN:DAYLIGHT
TZOFFSETFROM:+0100
TZOFFSETTO:+0200
TZNAME:CEST
DTSTART:20260329T010000
END:DAYLIGHT
BEGIN:STANDARD
TZOFFSETFROM:+0200
TZOFFSETTO:+0100
TZNAME:CET
DTSTART:20261025T010000
END:STANDARD
END:VTIMEZONE
BEGIN:VEVENT
DTSTART;TZID=Europe/Berlin:20250424T090000
DTEND;TZID=Europe/Berlin:20250424T170000
DTSTAMP:20260422T081111
CREATED:20250425T140316Z
LAST-MODIFIED:20250425T140316Z
UID:10813-1745485200-1745514000@www.naturfreunde-plauen.de
SUMMARY:Samstag\, 24.05.2025 Rundwanderung Reuther Linde
DESCRIPTION:Samstag\, 24.05.2025\nRundwanderung Reuther Linde\n9 km / 3 h Gehzeit / schwer / Rucksackverpflegung\nTreff: 09:00 Uhr Parkplatz Hohe Straße in Plauen\nInfo und Anmeldung: bis 10.05.2025 bei Frank Zschächner\, Tel.: 03741/59 59 29 oder 0162 16 26 664\nE-Mail: frankzschaechner@gmail.com
URL:https://www.naturfreunde-plauen.de/veranstaltung/samstag-24-05-2025-rundwanderung-reuther-linde/
LOCATION:Parkplatz Hohe Straße\, Hohe Straße\, Plauen\, Sachsen\, 08525\, Germany
CATEGORIES:Wanderung
END:VEVENT
END:VCALENDAR