BEGIN:VCALENDAR
VERSION:2.0
PRODID:-//NaturFreunde Plauen - ECPv6.15.19//NONSGML v1.0//EN
CALSCALE:GREGORIAN
METHOD:PUBLISH
X-WR-CALNAME:NaturFreunde Plauen
X-ORIGINAL-URL:https://www.naturfreunde-plauen.de
X-WR-CALDESC:Veranstaltungen für NaturFreunde Plauen
REFRESH-INTERVAL;VALUE=DURATION:PT1H
X-Robots-Tag:noindex
X-PUBLISHED-TTL:PT1H
BEGIN:VTIMEZONE
TZID:Europe/Berlin
BEGIN:DAYLIGHT
TZOFFSETFROM:+0100
TZOFFSETTO:+0200
TZNAME:CEST
DTSTART:20230326T010000
END:DAYLIGHT
BEGIN:STANDARD
TZOFFSETFROM:+0200
TZOFFSETTO:+0100
TZNAME:CET
DTSTART:20231029T010000
END:STANDARD
BEGIN:DAYLIGHT
TZOFFSETFROM:+0100
TZOFFSETTO:+0200
TZNAME:CEST
DTSTART:20240331T010000
END:DAYLIGHT
BEGIN:STANDARD
TZOFFSETFROM:+0200
TZOFFSETTO:+0100
TZNAME:CET
DTSTART:20241027T010000
END:STANDARD
BEGIN:DAYLIGHT
TZOFFSETFROM:+0100
TZOFFSETTO:+0200
TZNAME:CEST
DTSTART:20250330T010000
END:DAYLIGHT
BEGIN:STANDARD
TZOFFSETFROM:+0200
TZOFFSETTO:+0100
TZNAME:CET
DTSTART:20251026T010000
END:STANDARD
END:VTIMEZONE
BEGIN:VEVENT
DTSTART;TZID=Europe/Berlin:20241026T075000
DTEND;TZID=Europe/Berlin:20241026T170000
DTSTAMP:20260424T150110
CREATED:20241021T082433Z
LAST-MODIFIED:20241021T082644Z
UID:9269-1729929000-1729962000@www.naturfreunde-plauen.de
SUMMARY:Wanderung von Elsterberg zur Elstertalbrücke
DESCRIPTION:Treff/Abfahrt: 07:30/07:50 Uhr Plauen\, Bahnhof Mitte mit VBG RB 4 Rückfahrt: 11:49 Uhr oder 13:49 Uhr mit VBG RB 4 Anmeldung: bis 18.10.2024 Einkehr: Rucksackverpflegung Hinweise: Burgruine Elsterberg\, Steinicht\, Elstertalbrücke Organisationsgebühr Gäste 5 € Verantwortlich: Bernd Wächter (Tel.: 0172/3682237 o. E-Mail: naturfreunde.plauen@gmx.de)
URL:https://www.naturfreunde-plauen.de/veranstaltung/wanderung-von-elsterberg-zur-elstertalbruecke/
LOCATION:Bahnhof Mitte\, Plauen\, Reichenbacher Straße\, Plauen\, Sachsen\, 08523\, Germany
CATEGORIES:Wanderung
ORGANIZER;CN="Bernd W%C3%A4chter":MAILTO:naturfreunde.plauen@gmx.de
END:VEVENT
END:VCALENDAR